BEGIN:VCALENDAR
VERSION:2.0
PRODID:-//xity.de - ECPv6.15.20//NONSGML v1.0//EN
CALSCALE:GREGORIAN
METHOD:PUBLISH
X-ORIGINAL-URL:https://xity.de
X-WR-CALDESC:Veranstaltungen für xity.de
REFRESH-INTERVAL;VALUE=DURATION:PT1H
X-Robots-Tag:noindex
X-PUBLISHED-TTL:PT1H
BEGIN:VTIMEZONE
TZID:Europe/Berlin
BEGIN:DAYLIGHT
TZOFFSETFROM:+0100
TZOFFSETTO:+0200
TZNAME:CEST
DTSTART:20220327T010000
END:DAYLIGHT
BEGIN:STANDARD
TZOFFSETFROM:+0200
TZOFFSETTO:+0100
TZNAME:CET
DTSTART:20221030T010000
END:STANDARD
BEGIN:DAYLIGHT
TZOFFSETFROM:+0100
TZOFFSETTO:+0200
TZNAME:CEST
DTSTART:20230326T010000
END:DAYLIGHT
BEGIN:STANDARD
TZOFFSETFROM:+0200
TZOFFSETTO:+0100
TZNAME:CET
DTSTART:20231029T010000
END:STANDARD
BEGIN:DAYLIGHT
TZOFFSETFROM:+0100
TZOFFSETTO:+0200
TZNAME:CEST
DTSTART:20240331T010000
END:DAYLIGHT
BEGIN:STANDARD
TZOFFSETFROM:+0200
TZOFFSETTO:+0100
TZNAME:CET
DTSTART:20241027T010000
END:STANDARD
END:VTIMEZONE
BEGIN:VEVENT
DTSTART;TZID=Europe/Berlin:20231112T180000
DTEND;TZID=Europe/Berlin:20231112T213000
DTSTAMP:20260420T125521
CREATED:20230602T131227Z
LAST-MODIFIED:20230926T101524Z
UID:5050-1699812000-1699824600@xity.de
SUMMARY:The World Famous Glenn Miller Orchestra
DESCRIPTION:Düsseldorf – The Very Best of….“ heißt es bei dem Gastspiel des Glenn Miller Orchestra directed by Wil Salden am 12.11.2023 um 18 Uhr in der Tonhalle in Düsseldorf. Neben weltbekannten Glenn-Miller-Melodien wie Chattanooga Choo Choo\, In The Mood\, Pennsylvania 6-5000 werden auch Stücke aus der legendären Swing-Ära der 30er und 40er Jahre mit Originalarrangements und im Authenticsound zu hören sein. (Quelle: Schmidt & Salden GmbH)
URL:https://xity.de/event/the-world-famous-glenn-miller-orchestra/
LOCATION:Tonhalle Düsseldorf\, Ehrenhof 1\, Düsseldorf\, NRW\, 40479\, Deutschland
CATEGORIES:Konzert
ATTACH;FMTTYPE=image/jpeg:https://xity.de/wp-content/uploads/2023/06/Glen-Miller.jpg
END:VEVENT
END:VCALENDAR