BEGIN:VCALENDAR
VERSION:2.0
PRODID:-//xity.de - ECPv6.15.20//NONSGML v1.0//EN
CALSCALE:GREGORIAN
METHOD:PUBLISH
X-ORIGINAL-URL:https://xity.de
X-WR-CALDESC:Veranstaltungen für xity.de
REFRESH-INTERVAL;VALUE=DURATION:PT1H
X-Robots-Tag:noindex
X-PUBLISHED-TTL:PT1H
BEGIN:VTIMEZONE
TZID:Europe/Berlin
BEGIN:DAYLIGHT
TZOFFSETFROM:+0100
TZOFFSETTO:+0200
TZNAME:CEST
DTSTART:20230326T010000
END:DAYLIGHT
BEGIN:STANDARD
TZOFFSETFROM:+0200
TZOFFSETTO:+0100
TZNAME:CET
DTSTART:20231029T010000
END:STANDARD
BEGIN:DAYLIGHT
TZOFFSETFROM:+0100
TZOFFSETTO:+0200
TZNAME:CEST
DTSTART:20240331T010000
END:DAYLIGHT
BEGIN:STANDARD
TZOFFSETFROM:+0200
TZOFFSETTO:+0100
TZNAME:CET
DTSTART:20241027T010000
END:STANDARD
BEGIN:DAYLIGHT
TZOFFSETFROM:+0100
TZOFFSETTO:+0200
TZNAME:CEST
DTSTART:20250330T010000
END:DAYLIGHT
BEGIN:STANDARD
TZOFFSETFROM:+0200
TZOFFSETTO:+0100
TZNAME:CET
DTSTART:20251026T010000
END:STANDARD
END:VTIMEZONE
BEGIN:VEVENT
DTSTART;TZID=Europe/Berlin:20240403T190000
DTEND;TZID=Europe/Berlin:20240403T190000
DTSTAMP:20260419T203432
CREATED:20240402T082806Z
LAST-MODIFIED:20240402T082806Z
UID:52215-1712170800-1712170800@xity.de
SUMMARY:Vortrag im Goethe-Museum Düsseldorf
DESCRIPTION:Das Goethe-Museum lädt am Mittwoch\, 3. April 2024\, 19:00 Uhr\, zu einem Vortrag mit dem Heine-Experten Christian Liedtke zum Thema „Rivalisierend mit dem großen Wolfgang Goethe?“ Heinrich Heines Faust ein. Ob als Sagenfigur\, als Motiv der Bildenden Kunst\, als Held im Puppenspiel und in Goethes Tragödie – in vielerlei Gestalt taucht Faust in Heinrich Heines Werken auf. Christian Liedtke zeichnet seinen Umgang mit dem Faust-Stoff nach. Von der „Harzreise“ bis zu seinem Ballettlibretto „Der Doktor Faust. Ein Tanzpoem“ liefert Heine sich dabei auch ein literarisches Schattenboxen mit Goethe. \nDer Eintritt ist frei. Eine Anmeldung ist nicht erforderlich.
URL:https://xity.de/event/vortrag-im-goethe-museum-duesseldorf/
LOCATION:Goethe Museum\, Jacobistraße 2\, Düsseldorf\, NRW\, 40211\, Deutschland
CATEGORIES:Vortrag
ATTACH;FMTTYPE=image/jpeg:https://xity.de/wp-content/uploads/2023/10/goethe_museum_duesseldorf1.jpg
END:VEVENT
BEGIN:VEVENT
DTSTART;TZID=Europe/Berlin:20240404T190000
DTEND;TZID=Europe/Berlin:20240404T190000
DTSTAMP:20260419T203432
CREATED:20240402T083206Z
LAST-MODIFIED:20240402T083206Z
UID:52219-1712257200-1712257200@xity.de
SUMMARY:Vortrag mit Lesung im Goethe-Museum Düsseldorf
DESCRIPTION:Das Goethe-Museum veranstaltet am Donnerstag\, 4. April 2024\, 19:00 Uhr\, einen Vortrag mit Lesung von Prof. Dr. Christof Wingertszahn\, Direktor des Goethe-Museums. Der Vortrag handelt von dem Schriftsteller Karl Philipp Moritz\, der im Austausch mit jüdischen Intellektuellen stand: Moses Mendelssohn\, Markus Herz und Salomon Maimon. \nKarl Philipp Moritz (1756–1793) ist das Musterbeispiel eines deutschen Autors\, der mit jüdischen Intellektuellen zusammenarbeitete. In einer Zeit\, in der die jüdische Minderheit noch keine Bürgerrechte hatte\, bot er jüdischen Autoren in der ersten deutschsprachigen Zeitschrift für Psychologie ein Forum. Im „Magazin zur Erfahrungsseelenkunde“ publizierten junge Schriftsteller wie Lazarus Bendavid (1762–1832) oder Aaron Wolfsohn (1754–1835). An der Konzeption war der Berliner Philosoph Moses Mendelssohn (1729–1786) beteiligt. \nDas Leitbild lautete „Humanität“. Das „Magazin zur Erfahrungsseelenkunde“ widmete sich den geschundenen Menschen. Moritz strebte einen Umgang miteinander an\, der „die Scheidewand weg[hebt]\, die durch Alter\, Sitten\, Stand und Sprache Menschen von Menschen sondert“\, und zielt auf das „sympathetische Mitgefühl der Menschheit\, die sich sehnet\, dem Druck entnommen zu seyn\, der auf ihr liegt\, und in ihrer angestammten Größe wieder zu schimmern.“ \nDer Eintritt ist frei. Eine Anmeldung ist nicht erforderlich.
URL:https://xity.de/event/vortrag-mit-lesung-im-goethe-museum-duesseldorf/
LOCATION:Goethe Museum\, Jacobistraße 2\, Düsseldorf\, NRW\, 40211\, Deutschland
CATEGORIES:Vortrag
ATTACH;FMTTYPE=image/jpeg:https://xity.de/wp-content/uploads/2024/03/240131-Vortrag_Goethe_Museum_Herz_Mendelssohn_Maimon.jpg
END:VEVENT
END:VCALENDAR