BEGIN:VCALENDAR
VERSION:2.0
PRODID:-//xity.de - ECPv6.15.20//NONSGML v1.0//EN
CALSCALE:GREGORIAN
METHOD:PUBLISH
X-WR-CALNAME:xity.de
X-ORIGINAL-URL:https://xity.de
X-WR-CALDESC:Veranstaltungen für xity.de
REFRESH-INTERVAL;VALUE=DURATION:PT1H
X-Robots-Tag:noindex
X-PUBLISHED-TTL:PT1H
BEGIN:VTIMEZONE
TZID:Europe/Berlin
BEGIN:DAYLIGHT
TZOFFSETFROM:+0100
TZOFFSETTO:+0200
TZNAME:CEST
DTSTART:20230326T010000
END:DAYLIGHT
BEGIN:STANDARD
TZOFFSETFROM:+0200
TZOFFSETTO:+0100
TZNAME:CET
DTSTART:20231029T010000
END:STANDARD
BEGIN:DAYLIGHT
TZOFFSETFROM:+0100
TZOFFSETTO:+0200
TZNAME:CEST
DTSTART:20240331T010000
END:DAYLIGHT
BEGIN:STANDARD
TZOFFSETFROM:+0200
TZOFFSETTO:+0100
TZNAME:CET
DTSTART:20241027T010000
END:STANDARD
BEGIN:DAYLIGHT
TZOFFSETFROM:+0100
TZOFFSETTO:+0200
TZNAME:CEST
DTSTART:20250330T010000
END:DAYLIGHT
BEGIN:STANDARD
TZOFFSETFROM:+0200
TZOFFSETTO:+0100
TZNAME:CET
DTSTART:20251026T010000
END:STANDARD
END:VTIMEZONE
BEGIN:VEVENT
DTSTART;VALUE=DATE:20240222
DTEND;VALUE=DATE:20240527
DTSTAMP:20260422T124033
CREATED:20240207T143148Z
LAST-MODIFIED:20240207T143254Z
UID:37038-1708560000-1716767999@xity.de
SUMMARY:Tony Cragg. Please Touch!
DESCRIPTION:Skulpturen sollen berührt werden. Doch im Museum ist dieses „Erfassen“ aus konservatorischen Gründen nur selten möglich. Gemeinsam mit dem englischen Bildhauer Tony Cragg (*1948) zeigt der Kunstpalast im Frühjahr 2024 eine Ausstellung\, in der die taktilen Reize seiner Skulpturen im Zentrum stehen. Es ist die erste umfangreiche Ausstellung dieser Art in einem deutschen Museum. \nDie materielle Welt zu erforschen und ihre Möglichkeiten aufzudecken\, ist ein zentrales Anliegen von Tony Cragg. Ihn interessiert die Kombination von Werkstoff und Bedeutung\, die in der Ausstellung „Please touch!“ veranschaulicht wird. So bietet die Schau auch einen Blick über die Schulter des Bildhauers. Sie gibt den Besuchenden die Möglichkeit\, den künstlerischen Prozess Tony Craggs nachzuempfinden und mit allen Sinnen seine Arbeiten zu begreifen.
URL:https://xity.de/event/tony-cragg-please-touch/
LOCATION:Kunstpalast Düsseldorf\, Ehrenhof 4-5\, Düsseldorf\, NRW\, 40479\, Deutschland
CATEGORIES:Ausstellung
ATTACH;FMTTYPE=image/jpeg:https://xity.de/wp-content/uploads/2023/07/Museum_Kunstpalast_-_Neue_Ausstellung_PB_12.jpg
END:VEVENT
END:VCALENDAR