BEGIN:VCALENDAR
VERSION:2.0
PRODID:-//xity.de - ECPv6.15.20//NONSGML v1.0//EN
CALSCALE:GREGORIAN
METHOD:PUBLISH
X-WR-CALNAME:xity.de
X-ORIGINAL-URL:https://xity.de
X-WR-CALDESC:Veranstaltungen für xity.de
REFRESH-INTERVAL;VALUE=DURATION:PT1H
X-Robots-Tag:noindex
X-PUBLISHED-TTL:PT1H
BEGIN:VTIMEZONE
TZID:Europe/Berlin
BEGIN:DAYLIGHT
TZOFFSETFROM:+0100
TZOFFSETTO:+0200
TZNAME:CEST
DTSTART:20220327T010000
END:DAYLIGHT
BEGIN:STANDARD
TZOFFSETFROM:+0200
TZOFFSETTO:+0100
TZNAME:CET
DTSTART:20221030T010000
END:STANDARD
BEGIN:DAYLIGHT
TZOFFSETFROM:+0100
TZOFFSETTO:+0200
TZNAME:CEST
DTSTART:20230326T010000
END:DAYLIGHT
BEGIN:STANDARD
TZOFFSETFROM:+0200
TZOFFSETTO:+0100
TZNAME:CET
DTSTART:20231029T010000
END:STANDARD
BEGIN:DAYLIGHT
TZOFFSETFROM:+0100
TZOFFSETTO:+0200
TZNAME:CEST
DTSTART:20240331T010000
END:DAYLIGHT
BEGIN:STANDARD
TZOFFSETFROM:+0200
TZOFFSETTO:+0100
TZNAME:CET
DTSTART:20241027T010000
END:STANDARD
END:VTIMEZONE
BEGIN:VEVENT
DTSTART;TZID=Europe/Berlin:20230921T193000
DTEND;TZID=Europe/Berlin:20230921T220000
DTSTAMP:20260420T023813
CREATED:20230918T132755Z
LAST-MODIFIED:20230918T132755Z
UID:12365-1695324600-1695333600@xity.de
SUMMARY:Feminismus in der Comedy mit Leticia Wahl
DESCRIPTION:Düsseldorf – Was passiert\, wenn man Kunst und Aktivismus vereint? Was\, wenn man sich mit Feminismus auf der Bühne auseinandersetzt? Was\, wenn man das Bandenbilden zelebriert und sich gegenseitig fördert und sich gemeinsam für Sichtbarkeit und Gleichberechtigung einsetzt? Genau das wollen drei feministische Gruppen aus Düsseldorf zeigen: kom!ma e.V.\, femmes & schwestern und das MusenKollektiv. In dieser neuen Veranstaltungsreihe bekommen publizierte Poet*innen die Sichtbarkeit und das Gehör\, das sie verdienen. Wir holen schreibende FLINTA* Personen im Theatermuseum Düsseldorf an einen Tisch und machen eine fantastische Show draus – Flinta*s tisch eben. \n\n\n\n\n\n\n\nIn Ausgabe 2 freuen wird Leticia Wahl zu Gast sein. Sie gehört ohne Zweifel zu den vielversprechendsten Wortakrobat*innen im Bereich der Slam Poetry. Sie gilt auf der Bühne als unberechenbarer Feingeist\, in ihren literarischen Schöpfungen beeindruckend subtil und gleichzeitig so herrlich impulsiv. Ihre Inhalte transportieren mal Melancholie\, mal Humor\, mal bittersüße Selbstreflexion. (Quelle: komma – Verein für Frauenkommunikation e.V.)
URL:https://xity.de/event/feminismus-in-der-comedy-mit-leticia-wahl/
LOCATION:Theatermuseum Düsseldorf\, Jägerhofstraße 1\, Düsseldorf\, NRW\, 40479\, Deutschland
CATEGORIES:Comedy,Freizeit,Lesung,Vortrag
ATTACH;FMTTYPE=image/jpeg:https://xity.de/wp-content/uploads/2023/09/Wahl.jpg
END:VEVENT
END:VCALENDAR