BEGIN:VCALENDAR
VERSION:2.0
PRODID:-//xity.de - ECPv6.15.20//NONSGML v1.0//EN
CALSCALE:GREGORIAN
METHOD:PUBLISH
X-ORIGINAL-URL:https://xity.de
X-WR-CALDESC:Veranstaltungen für xity.de
REFRESH-INTERVAL;VALUE=DURATION:PT1H
X-Robots-Tag:noindex
X-PUBLISHED-TTL:PT1H
BEGIN:VTIMEZONE
TZID:Europe/Berlin
BEGIN:DAYLIGHT
TZOFFSETFROM:+0100
TZOFFSETTO:+0200
TZNAME:CEST
DTSTART:20220327T010000
END:DAYLIGHT
BEGIN:STANDARD
TZOFFSETFROM:+0200
TZOFFSETTO:+0100
TZNAME:CET
DTSTART:20221030T010000
END:STANDARD
BEGIN:DAYLIGHT
TZOFFSETFROM:+0100
TZOFFSETTO:+0200
TZNAME:CEST
DTSTART:20230326T010000
END:DAYLIGHT
BEGIN:STANDARD
TZOFFSETFROM:+0200
TZOFFSETTO:+0100
TZNAME:CET
DTSTART:20231029T010000
END:STANDARD
BEGIN:DAYLIGHT
TZOFFSETFROM:+0100
TZOFFSETTO:+0200
TZNAME:CEST
DTSTART:20240331T010000
END:DAYLIGHT
BEGIN:STANDARD
TZOFFSETFROM:+0200
TZOFFSETTO:+0100
TZNAME:CET
DTSTART:20241027T010000
END:STANDARD
END:VTIMEZONE
BEGIN:VEVENT
DTSTART;TZID=Europe/Berlin:20231128T200000
DTEND;TZID=Europe/Berlin:20231128T230000
DTSTAMP:20260420T002933
CREATED:20230705T103347Z
LAST-MODIFIED:20230926T102342Z
UID:7516-1701201600-1701212400@xity.de
SUMMARY:Let's Dance - Die Live-Tour 2023
DESCRIPTION:Düsseldorf – Auf die Tanzfläche\, fertig\, los! Die beliebteste Tanzshow geht auch im nächsten Jahr wieder auf große Live-Tour\, um nach den sensationellen Erfolgen in 2019\, 2021 und 2022 auch dem kommenden Herbst glamourös einzuheizen. Natürlich wieder mit dem hinreißenden Team aus den Juroren Motsi Mabuse\, Joachim Llambi und Jorge González\, dem Moderator Daniel Hartwich\, all den beliebten Profis und tollen neuen Promis\, die ungeahnte Talente offenbaren und alles geben werden\, um sich den Sieg zu ertanzen. \nWenn die Scheinwerfer die Tanzpaare in dieses besondere Licht tauchen\, der Tüll der aufwendigen Kostüme knistert und der Puls steigt\, wenn die ersten Töne der Musik erklingen und sie zu den ersten Schritten ansetzen\, hält wirklich jeder den Atem an. Ob jung oder alt\, ob tanzbegeistert oder einfach mal neugierig\, kein anderes Format zieht die Menschen so in seinen Bann. Es ist diese einzigartige Formel\, die so spannende Unterhaltung garantiert: Zwischen aufgeregter Hoffnung\, großem Triumph und Tränen der Enttäuschung\, zwischen Pailletten und Konfetti\, echter Leidenschaft und Siegeswillen\, zwischen persönlichen Favoriten und starker Konkurrenz\, unerwarteten Wendungen und dem Zusammenhalt aller Teilnehmerinnen und Teilnehmer – genau diese Formel sorgt schon seit 16 Jahren für absolute Begeisterung. Die Adaption des erfolgreichen BBC-Formats „Strictly Come Dancing“\, das 2004 das Tanzfieber in England entfacht hat und seit 2008 durch die Konzerthallen in England und Irland tourt\, kam 2006 nach Deutschland und gab den Startschuss für eine mitreißende Erfolgsgeschichte. 15 Staffeln\, 56 Profis\, 182 Promis\, Millionen begeisterte TV-Zuschauer und Hunderttausende Fans bei den ausverkauften Live-Shows\, zu denen 17 Trucks sagenhafte 140 Tonnen Technik quer durch Deutschland fahren – die Zahlen beeindrucken ebenso wie die fantastischen Outfits\, die ausgefeilte Bühnenshow und liebevoll einstudierten Tänze.\nUnd doch können weder Zahlen noch Worte wirklich diese knisternde Magie beschreiben\, die jeden Abend entsteht\, wenn man live und hautnah dabei ist. Die perfekt designte Bühne erlaubt beste Sicht und zusätzliche Kameras fangen jede Bewegung bis ins kleinste Detail ein\, wenn die Paare im feurigen Cha-Cha-Cha\, eleganten Walzer\, innigen Tango\, wilden Jive oder schwungvollen Discofox übers Parkett wirbeln\, bevor das Urteil von Deutschlands härtester\, aber fairster und charmantester Lieblingsjury erfolgt. Wer gewinnt die Herzen der Jurorin und Juroren sowie des Publikums? Jetzt Tickets sichern\, mit dem Show-Highlight des Jahres durch den grauen Herbst tanzen und hautnah die Entscheidung erleben! (Quelle: Semmel Concerts)
URL:https://xity.de/event/lets-dance-die-live-tour-2023/
LOCATION:PSD Bank Dome\, Theodorstr. 281\, Düsseldorf\, NRW\, 40472\, Deutschland
CATEGORIES:Tanz
ATTACH;FMTTYPE=image/jpeg:https://xity.de/wp-content/uploads/2023/07/Dance.jpg
END:VEVENT
END:VCALENDAR