BEGIN:VCALENDAR
VERSION:2.0
PRODID:-//xity.de - ECPv6.15.20//NONSGML v1.0//EN
CALSCALE:GREGORIAN
METHOD:PUBLISH
X-WR-CALNAME:xity.de
X-ORIGINAL-URL:https://xity.de
X-WR-CALDESC:Veranstaltungen für xity.de
REFRESH-INTERVAL;VALUE=DURATION:PT1H
X-Robots-Tag:noindex
X-PUBLISHED-TTL:PT1H
BEGIN:VTIMEZONE
TZID:Europe/Berlin
BEGIN:DAYLIGHT
TZOFFSETFROM:+0100
TZOFFSETTO:+0200
TZNAME:CEST
DTSTART:20220327T010000
END:DAYLIGHT
BEGIN:STANDARD
TZOFFSETFROM:+0200
TZOFFSETTO:+0100
TZNAME:CET
DTSTART:20221030T010000
END:STANDARD
BEGIN:DAYLIGHT
TZOFFSETFROM:+0100
TZOFFSETTO:+0200
TZNAME:CEST
DTSTART:20230326T010000
END:DAYLIGHT
BEGIN:STANDARD
TZOFFSETFROM:+0200
TZOFFSETTO:+0100
TZNAME:CET
DTSTART:20231029T010000
END:STANDARD
BEGIN:DAYLIGHT
TZOFFSETFROM:+0100
TZOFFSETTO:+0200
TZNAME:CEST
DTSTART:20240331T010000
END:DAYLIGHT
BEGIN:STANDARD
TZOFFSETFROM:+0200
TZOFFSETTO:+0100
TZNAME:CET
DTSTART:20241027T010000
END:STANDARD
END:VTIMEZONE
BEGIN:VEVENT
DTSTART;VALUE=DATE:20230901
DTEND;VALUE=DATE:20230904
DTSTAMP:20260420T090015
CREATED:20230828T094707Z
LAST-MODIFIED:20230828T094707Z
UID:10940-1693526400-1693785599@xity.de
SUMMARY:25 Jahre tanzhaus nrw : Jubiläumsfestival vom 1. - 3. September 2023
DESCRIPTION:Düsseldorf – Seit seinem Einzug in ein ehemaliges Straßenbahndepot im Jahr 1998 hat sich das tanzhaus nrw zu einer in Deutschland einzigartigen Institution mit internationaler Strahlkraft entwickelt. Vom 1. bis 3. September 2023 lädt das Haus zu einem Jubiläumsfestival\, das gleichzeitig die neue Spielzeit einläutet. Das abwechslungsreiche Programm bietet Tanzerlebnisse unterschiedlicher Art: Die Besucher*innen erwarten Bühnen- und Outdoorperformances\, Konzerte\, eine interaktive Installation sowie weitere Mitmachaktionen. \n\n\n\n\n Festivalprogramm\n\n\n\n\n\n\n\n\n\n\n\nAm 1. September 2023 eröffnet Marco da Silva Ferreiras international gefeierte Arbeit Carcaça das Festivalwochenende. Die hochenergetische und ansteckende Performance präsentiert rasante Tanzbewegungen und erkundet zugleich die politischen und gemeinschaftsstiftenden Potenziale von Tanz. Am 2. und 3. September 2023 bietet die Uraufführung von The Dancing der Choreografen Bouzid Ait Atmane und Saïdo Lehlouh Tanzinteressierten jeden Alters die Möglichkeit\, sich in der Düsseldorfer Innenstadt kreativ auszutauschen und körperlich auszudrücken. \nEin weiteres Highlight während des gesamten Festivalzeitraums bietet die virtuelle Installation Post Digital Bodies der Künstlerin Brigitte Huezo. Durch den Einsatz von Motion Tracking sind die Besucher*innen dazu eingeladen\, mit den eigenen Bewegungen Teil der Installation zu werden und die Wirkung der Arbeit zu beeinflussen. \nAm 3. September zeigen Dozent*innen des tanzhaus nrw Bewegungen unterschiedlicher Tanzstile als Tanzdemo zum Mittanzen und Mitnehmen auf dem Handy. Die Bewegungen können anschließend selbst getanzt und als Geburtstagsgruß unter dem Hashtag #25YearsIn25Moves online gestellt werden. \nAbgerundet wird das Programm mit Elektro-Konzertabenden der Bands Elektro Hafiz und LA Crush sowie der inklusiven Performance Goodbye\, Stracciatella der Compagnie Beweggrund & Tabea Martin. \n(Quelle: tanzhaus nrw)
URL:https://xity.de/event/25-jahre-tanzhaus-nrw-jubilaeumsfestival-vom-1-3-september-2023/
LOCATION:tanzhaus nrw\, Erkratherstraße 30\, Düsseldorf\, NRW\, 40233\, Deutschland
CATEGORIES:Festival,Musik,Party,Tanz
ATTACH;FMTTYPE=image/jpeg:https://xity.de/wp-content/uploads/2023/08/Tanz-4.jpg
END:VEVENT
BEGIN:VEVENT
DTSTART;VALUE=DATE:20230906
DTEND;VALUE=DATE:20230908
DTSTAMP:20260420T090015
CREATED:20230816T112308Z
LAST-MODIFIED:20230816T112308Z
UID:10217-1693958400-1694131199@xity.de
SUMMARY:Stadtrundgang mit Guru Dudu
DESCRIPTION:Düsseldorf – Es ist ein schräger Stadtrundgang\, zu dem der spirituelle Spaßvogel Guru Dudu aus Melbourne im Rahmen des Düsseldorf Festivals einlädt. Das Besondere: Das Publikum des außergewöhnlichen Stadtrundgangs ist mit Bluetooth-Kopfhörern ausgestattet und wird mit unkomplizierter\, tanzbarer Musik aus den 1970er- bis 2000er-Jahren beschallt und mit originellen Kommentaren zu lokalen Sehenswürdigkeiten unterhalten. So erobert der papageienbunte Guru Dudu die Stadt mit verrückt aussehenden\, lautlosen Tänzen. Das sorgt im Rahmen des Düsseldorf Festivals zuverlässig für heitere Enthemmung und wird zum fröhlichen Happening\, irgendwo zwischen Flashmob\, improvisiertem Tanztheater und Kopfsteinpflaster-Ballett. \n\n\n\n\n\n\n\nÜbrigens: Nach einem ähnlichen Prinzip funktionieren die Silent Disco After-Show-Partys in der Theaterbar. Aber hier kann man sogar drei unterschiedliche Musikkanäle wählen und seine Lieblingsmusik selbst bestimmen.
URL:https://xity.de/event/stadtrundgang-mit-guru-dudu/
LOCATION:Burgplatz Düsseldorf\, Burgplatz\, Düsseldorf\, NRW\, 40213\, Deutschland
CATEGORIES:Comedy,Führung
ATTACH;FMTTYPE=image/jpeg:https://xity.de/wp-content/uploads/2023/08/Guru.jpg
END:VEVENT
BEGIN:VEVENT
DTSTART;TZID=Europe/Berlin:20230911T180000
DTEND;TZID=Europe/Berlin:20230911T200000
DTSTAMP:20260420T090015
CREATED:20230501T083309Z
LAST-MODIFIED:20230808T104451Z
UID:2161-1694455200-1694462400@xity.de
SUMMARY:Tango Open Air am Kö-Bogen
DESCRIPTION:Düsseldorf – Von 18:00 – 19:00 Uhr geben die Dozenten des Tanzhauses NRW allen Interessierten eine kostenlose Einführung in die jeweilige Tanzrichtung. Ab 19:00 Uhr beginnt dann die offizielle Tanznacht.
URL:https://xity.de/event/tango-open-air-am-koe-bogen-5/
LOCATION:Kö-Bogen\, Kö-Bogen Düsseldorf\, Düsseldorf\, NRW\, 40212\, Deutschland
CATEGORIES:Events
ATTACH;FMTTYPE=image/jpeg:https://xity.de/wp-content/uploads/2023/05/Salsa-am-Kö_Bogen.jpg
END:VEVENT
BEGIN:VEVENT
DTSTART;VALUE=DATE:20230912
DTEND;VALUE=DATE:20230914
DTSTAMP:20260420T090015
CREATED:20230808T105407Z
LAST-MODIFIED:20230808T105407Z
UID:9710-1694476800-1694649599@xity.de
SUMMARY:Botis Seva: BLKDOG
DESCRIPTION:Düsseldorf – Er ist Tanzkünstler\, Choreograf und Regisseur\, der in den Bereichen Hip Hop\, physisches Theater und zeitgenössischen Tanz arbeitet. Und nicht zuletzt seine unverwechselbare Sprache hat Botis Seva schließlich an die Spitze des internationalen Hip-Hop-Tanztheaters gebracht. Von der Zeit des Erwachsenwerdens\, von Zorn und Depression erzählt das Programm „BLKDOG“ des Shooting-Stars Botis Seva\, aber auch von Humor und Momenten großer Zartheit. Er widme diese Arbeit den Menschen ohne Stimme\, sagt der junge Londoner Choreograf\, und stellt in seiner Arbeit existenzielle Fragen nach Verdrängung\, Gewalt und früher Traumatisierung. Auf sehr persönliche Weise inszeniert er mit seiner Kompanie mit dem sprechenden Namen „Far From The Norm“ experimentellen Hip-Hop. Die erste Version von „BLKDOG“ entstand 2018\, seither entwickelt sich das Stück immer weiter. „Ich möchte nicht\, dass es eine \,fertige‘ Version gibt“\, sagt Seva. \n\n\n\n\n\n\nDer „Guardian“ jubelte: „… eine tief bewegende Arbeit“. Der Titel erinnert übrigens an Winston Churchill\, der seine depressiven Phasen als „Black Dog“ bezeichnete.
URL:https://xity.de/event/botis-seva-blkdog/
LOCATION:Burgplatz Düsseldorf\, Burgplatz\, Düsseldorf\, NRW\, 40213\, Deutschland
CATEGORIES:Festival,Tanz,Theater
ATTACH;FMTTYPE=image/jpeg:https://xity.de/wp-content/uploads/2023/08/Tanz.jpg
END:VEVENT
BEGIN:VEVENT
DTSTART;TZID=Europe/Berlin:20230921T180000
DTEND;TZID=Europe/Berlin:20230921T200000
DTSTAMP:20260420T090015
CREATED:20230501T080949Z
LAST-MODIFIED:20230508T121332Z
UID:2150-1695319200-1695326400@xity.de
SUMMARY:Salsa Open Air am Kö-Bogen
DESCRIPTION:Düsseldorf – Von 18:00 – 19:00 Uhr geben die Dozenten des Tanzhauses NRW allen Interessierten eine kostenlose Einführung in die jeweilige Tanzrichtung. Ab 19:00 Uhr beginnt dann die offizielle Tanznacht.
URL:https://xity.de/event/salsa-open-air-am-koe-bogen-5/
LOCATION:Kö-Bogen\, Kö-Bogen Düsseldorf\, Düsseldorf\, NRW\, 40212\, Deutschland
CATEGORIES:Events
ATTACH;FMTTYPE=image/jpeg:https://xity.de/wp-content/uploads/2023/05/Salsa-am-Kö_Bogen.jpg
END:VEVENT
BEGIN:VEVENT
DTSTART;VALUE=DATE:20230930
DTEND;VALUE=DATE:20231004
DTSTAMP:20260420T090015
CREATED:20230921T121601Z
LAST-MODIFIED:20230926T092833Z
UID:12659-1696032000-1696377599@xity.de
SUMMARY:Katja Heitmann: Reliquiem
DESCRIPTION:Düsseldorf – Was bewegt Menschen? Welche Bewegung würdest du gerne erben? Seit 2019 haben bereits mehr als 1.500 Menschen\, unter ihnen auch viele Düsseldorfer*innen\, ihre persönliche Bewegung für das lebende Archiv Motus Mori gespendet. Auf dessen Grundlage schafft die Choreografin Katja Heitmann immer wieder neue Kunstwerke. In der neuen Bewegungs-Oper Reliquiem erlebt das Publikum die Beweggründe\, Bewegungseigenschaften\, Bewegungsmerkmale anderer Menschen auf direkte und eindringliche Weise\, nämlich durch den eigenen Körper. In einem intimen Ritual kann das Publikum die Bewegungen der vielen Bewegungsspender*innen des Archivs selbst nachempfinden und nimmt dadurch die persönlichen Bewegungsreliquien eines anderen Menschen in das persönliche Bewegungsrepertoire auf. Dadurch entsteht ein zugleich berührender und fast magischer bewegungsbasierter Austausch\, den Heitmann kinetische Empathie nennt. Reliquiem schafft ein kollektives\, gemeinsames Bewegungserbe\, um dies für die Zukunft zu sichern. Reliquiem findet im öffentlichen Raum fernab der Bühnen des tanzhaus nrw statt\, um die Erfahrung des Publikums in eine unmittelbare Nähe zu Menschen und ihren Alltagsbewegungen zu setzen. \n\n\n\n\n\n\n\nKatja Heitmann lebt und arbeitet in Tilburg\, Niederlande\, und entwirft Projekte zwischen Choreografie und bildender Kunst. Im Rahmen einer „Residenz im Realen“ erforschte sie bereits 2018 Alltagsbewegungen gemeinsam mit Besucher*innen des Zentrum Plus/DRK in Düsseldorf Friedrichstadt. Im Jahr 2020 machte sie mit Motus Mori Düsseldorf eine Bewegungs-Ausstellung zur Uraufführung. Mit Reliquiem findet der nächste Schritt ihrer Bewegungsforschung den Weg nach Düsseldorf. (Quelle: tanzhaus nrw)
URL:https://xity.de/event/katja-heitmann-reliquiem/
LOCATION:Theatermuseum Düsseldorf\, Jägerhofstraße 1\, Düsseldorf\, NRW\, 40479\, Deutschland
CATEGORIES:Tanz
ATTACH;FMTTYPE=image/jpeg:https://xity.de/wp-content/uploads/2023/09/Tanz-1.jpg
END:VEVENT
END:VCALENDAR