BEGIN:VCALENDAR
VERSION:2.0
PRODID:-//xity.de - ECPv6.15.20//NONSGML v1.0//EN
CALSCALE:GREGORIAN
METHOD:PUBLISH
X-WR-CALNAME:xity.de
X-ORIGINAL-URL:https://xity.de
X-WR-CALDESC:Veranstaltungen für xity.de
REFRESH-INTERVAL;VALUE=DURATION:PT1H
X-Robots-Tag:noindex
X-PUBLISHED-TTL:PT1H
BEGIN:VTIMEZONE
TZID:Europe/Berlin
BEGIN:DAYLIGHT
TZOFFSETFROM:+0100
TZOFFSETTO:+0200
TZNAME:CEST
DTSTART:20220327T010000
END:DAYLIGHT
BEGIN:STANDARD
TZOFFSETFROM:+0200
TZOFFSETTO:+0100
TZNAME:CET
DTSTART:20221030T010000
END:STANDARD
BEGIN:DAYLIGHT
TZOFFSETFROM:+0100
TZOFFSETTO:+0200
TZNAME:CEST
DTSTART:20230326T010000
END:DAYLIGHT
BEGIN:STANDARD
TZOFFSETFROM:+0200
TZOFFSETTO:+0100
TZNAME:CET
DTSTART:20231029T010000
END:STANDARD
BEGIN:DAYLIGHT
TZOFFSETFROM:+0100
TZOFFSETTO:+0200
TZNAME:CEST
DTSTART:20240331T010000
END:DAYLIGHT
BEGIN:STANDARD
TZOFFSETFROM:+0200
TZOFFSETTO:+0100
TZNAME:CET
DTSTART:20241027T010000
END:STANDARD
END:VTIMEZONE
BEGIN:VEVENT
DTSTART;TZID=Europe/Berlin:20230801T190000
DTEND;TZID=Europe/Berlin:20230801T233000
DTSTAMP:20260420T104006
CREATED:20230726T124358Z
LAST-MODIFIED:20230726T124358Z
UID:8891-1690916400-1690932600@xity.de
SUMMARY:Spanischer Abend: Los Jaranas
DESCRIPTION:Düsseldorf – Endlich ist es wieder soweit: der Spanische Abend im zakk Biergarten. An ausgesuchten Dienstagen im Juli und August findet der Spanische Abend bei uns in Flingern statt. Bei gutem Wetter öffnen wir wie gewohnt unseren lauschigen Biergarten und präsentieren spanische Musik\, Flamenco\, Tapas\, San Miguel\, spanische Weine und viel viel Atmosphäre. Sollte das Wetter so gar nicht mitspielen\, hoffen wir\, dass ihr uns in der Folgewoche besucht. (Quelle: zakk)
URL:https://xity.de/event/spanischer-abend-los-jaranas/
LOCATION:Zentrum für Aktion und Kommunikation (zakk)\, Fichtenstraße 40\, Düsseldorf\, NRW\, 40233\, Deutschland
CATEGORIES:Freizeit,Party
ATTACH;FMTTYPE=image/jpeg:https://xity.de/wp-content/uploads/2023/06/zakk-1.jpg
END:VEVENT
BEGIN:VEVENT
DTSTART;TZID=Europe/Berlin:20230810T180000
DTEND;TZID=Europe/Berlin:20230810T200000
DTSTAMP:20260420T104006
CREATED:20230501T080550Z
LAST-MODIFIED:20230508T121355Z
UID:2148-1691690400-1691697600@xity.de
SUMMARY:Salsa Open Air am Kö-Bogen
DESCRIPTION:Düsseldorf – Von 18:00 – 19:00 Uhr geben die Dozenten des Tanzhauses NRW allen Interessierten eine kostenlose Einführung in die jeweilige Tanzrichtung. Ab 19:00 Uhr beginnt dann die offizielle Tanznacht.
URL:https://xity.de/event/salsa-open-air-am-koe-bogen-4/
LOCATION:Kö-Bogen\, Kö-Bogen Düsseldorf\, Düsseldorf\, NRW\, 40212\, Deutschland
CATEGORIES:Events
ATTACH;FMTTYPE=image/jpeg:https://xity.de/wp-content/uploads/2023/05/Salsa-am-Kö_Bogen.jpg
END:VEVENT
BEGIN:VEVENT
DTSTART;TZID=Europe/Berlin:20230811T190000
DTEND;TZID=Europe/Berlin:20230811T230000
DTSTAMP:20260420T104006
CREATED:20230718T124209Z
LAST-MODIFIED:20230718T124209Z
UID:8350-1691780400-1691794800@xity.de
SUMMARY:Wir können auch anders: 50+ Party
DESCRIPTION:Düsseldorf – Die garantiert jugendfreie Party mit DJ Ingwart. Hier kommt Eure Musik! Songs\, die Euch groß gemacht haben. Songs\, die bleiben! 50plus: kann man nicht erklären\, muss man leben. Die gespielte Musik hat ihren Schwerpunkt in den 60er\, 70er und 80er Jahren – da wird ein Gefühl\, eine Erinnerung zurück geholt. Doch dosiert laufen auch Sachen aus den neunziger Jahren\, sowie aus diesem Jahrtausend. Vom Genre her wird soweit alles bedient was damals und heute aktuell ist: Rock\, Soul\, R&B\, Funk\, 70er Disco\, Discofox\, Dancefloor\, Philadelphia\, Reggae\, Rock’n Roll\, Twist\, 60ties\, Flower Power\, Engtanz\, Glammer\, Klassiker\, Ohrwürmer\, Remixe\, Coversongs\, Charts etc. Für jeden ist also etwas dabei\, getanzt wird\, wie’s gefällt – ob Discofox oder Soloeinlage. (Quelle: zakk)
URL:https://xity.de/event/wir-koennen-auch-anders-50-party-2/
LOCATION:Zentrum für Aktion und Kommunikation (zakk)\, Fichtenstraße 40\, Düsseldorf\, NRW\, 40233\, Deutschland
CATEGORIES:Party
ATTACH;FMTTYPE=image/jpeg:https://xity.de/wp-content/uploads/2023/07/Zakk.jpg
END:VEVENT
END:VCALENDAR