BEGIN:VCALENDAR
VERSION:2.0
PRODID:-//xity.de - ECPv6.15.20//NONSGML v1.0//EN
CALSCALE:GREGORIAN
METHOD:PUBLISH
X-ORIGINAL-URL:https://xity.de
X-WR-CALDESC:Veranstaltungen für xity.de
REFRESH-INTERVAL;VALUE=DURATION:PT1H
X-Robots-Tag:noindex
X-PUBLISHED-TTL:PT1H
BEGIN:VTIMEZONE
TZID:Europe/Berlin
BEGIN:DAYLIGHT
TZOFFSETFROM:+0100
TZOFFSETTO:+0200
TZNAME:CEST
DTSTART:20220327T010000
END:DAYLIGHT
BEGIN:STANDARD
TZOFFSETFROM:+0200
TZOFFSETTO:+0100
TZNAME:CET
DTSTART:20221030T010000
END:STANDARD
BEGIN:DAYLIGHT
TZOFFSETFROM:+0100
TZOFFSETTO:+0200
TZNAME:CEST
DTSTART:20230326T010000
END:DAYLIGHT
BEGIN:STANDARD
TZOFFSETFROM:+0200
TZOFFSETTO:+0100
TZNAME:CET
DTSTART:20231029T010000
END:STANDARD
BEGIN:DAYLIGHT
TZOFFSETFROM:+0100
TZOFFSETTO:+0200
TZNAME:CEST
DTSTART:20240331T010000
END:DAYLIGHT
BEGIN:STANDARD
TZOFFSETFROM:+0200
TZOFFSETTO:+0100
TZNAME:CET
DTSTART:20241027T010000
END:STANDARD
END:VTIMEZONE
BEGIN:VEVENT
DTSTART;TZID=Europe/Berlin:20230831T200000
DTEND;TZID=Europe/Berlin:20230831T223000
DTSTAMP:20260420T001314
CREATED:20230816T095050Z
LAST-MODIFIED:20230816T095050Z
UID:10174-1693512000-1693521000@xity.de
SUMMARY:Eros & Psyche – Liebeslieder von Franz Schubert\, Jean Coulthard\, Rita Strohl und Hugo Wolf
DESCRIPTION:Düsseldorf – Boris Radulovic und Karola Pavone erzählen von ewigen Themen\, die schon in der griechischen Mythologie spannend dargestellt wurden und uns bis heute faszinieren: wie tief der Schmerz sitzt\, wenn wir verlassen werden\, warum Intrigen und Eifersucht auch damals schon Beziehungen zerstörten und die Liebe am Ende trotzdem triumphieren kann. \n\n\n\nBegleitet von sinnlich aufgeladenen Texten des französischen Dichters Pierre Louÿs und der herrlich farben- und kontrastreichen Musik der Französin Rita Strohl\, flimmernder Lebenslust in den „Three ancient memories of Greece“ der kanadischen Komponistin Jean Coulthard und den Liedern Franz Schuberts\, die er auf Texte von Johann Mayerhofer vertonte. (Quelle: Maxhaus) \nKarten: Maxhaus-Foyer\, eintrittskarten@maxhaus.de oder T 0211/9010252
URL:https://xity.de/event/eros-psyche-liebeslieder-von-franz-schubert-jean-coulthard-rita-strohl-und-hugo-wolf/
LOCATION:Maxhaus\, Schulstraße 11\, Düsseldorf\, NRW\, 40213\, Deutschland
CATEGORIES:Konzert
ATTACH;FMTTYPE=image/jpeg:https://xity.de/wp-content/uploads/2023/08/Konzert-1.jpg
END:VEVENT
END:VCALENDAR