BEGIN:VCALENDAR
VERSION:2.0
PRODID:-//xity.de - ECPv6.15.20//NONSGML v1.0//EN
CALSCALE:GREGORIAN
METHOD:PUBLISH
X-WR-CALNAME:xity.de
X-ORIGINAL-URL:https://xity.de
X-WR-CALDESC:Veranstaltungen für xity.de
REFRESH-INTERVAL;VALUE=DURATION:PT1H
X-Robots-Tag:noindex
X-PUBLISHED-TTL:PT1H
BEGIN:VTIMEZONE
TZID:Europe/Berlin
BEGIN:DAYLIGHT
TZOFFSETFROM:+0100
TZOFFSETTO:+0200
TZNAME:CEST
DTSTART:20230326T010000
END:DAYLIGHT
BEGIN:STANDARD
TZOFFSETFROM:+0200
TZOFFSETTO:+0100
TZNAME:CET
DTSTART:20231029T010000
END:STANDARD
BEGIN:DAYLIGHT
TZOFFSETFROM:+0100
TZOFFSETTO:+0200
TZNAME:CEST
DTSTART:20240331T010000
END:DAYLIGHT
BEGIN:STANDARD
TZOFFSETFROM:+0200
TZOFFSETTO:+0100
TZNAME:CET
DTSTART:20241027T010000
END:STANDARD
BEGIN:DAYLIGHT
TZOFFSETFROM:+0100
TZOFFSETTO:+0200
TZNAME:CEST
DTSTART:20250330T010000
END:DAYLIGHT
BEGIN:STANDARD
TZOFFSETFROM:+0200
TZOFFSETTO:+0100
TZNAME:CET
DTSTART:20251026T010000
END:STANDARD
END:VTIMEZONE
BEGIN:VEVENT
DTSTART;TZID=Europe/Berlin:20240326T200000
DTEND;TZID=Europe/Berlin:20240326T223000
DTSTAMP:20260420T024937
CREATED:20230727T111201Z
LAST-MODIFIED:20230926T105624Z
UID:8963-1711483200-1711492200@xity.de
SUMMARY:Niall Horan in Concert
DESCRIPTION:Düsseldorf – Der irische Sänger und Gitarrist Niall Horan hat mit gerade einmal 29 Jahren einen atemberaubenden internationalen Erfolg erreicht. Niall Horans Solo-Sound unterschied sich vom Fleck weg deutlich von jenem seiner vorherigen Band „One Direction“: Beeinflusst einerseits vom klassischen Swing-Sound zwischen Frank Sinatra\, Dean Martin und Michael Bublé – den man vor allem in seiner ungewöhnlich lässigen Art des Croonings wiederfinden kann – und andererseits durch den Classic-Rock im Stile von Fleetwood Mac\, The Eagles und Bon Jovi\, zeigte Niall Horan gleich auf seinen ersten Veröffentlichungen\, dass er genaue Vorstellungen von „seiner“ Klang- Identität besitzt.  \n\n\n\n\n\n\n\n„The Show“ wird nach den beiden fantastischen und atemberaubend erfolgreichen Alben „Flicker“ und „Heartbreak Winter“\, deren Songs es auf eine kumulierte Anzahl von mehr als acht Milliarden Streams bringen und mit insgesamt 50 goldenen und 72 Platin-Auszeichnungen veredelt wurden\, das bislang persönlichste Album von Niall Horan sein: Die Songs dieser Platte sind tief empfundene Meditationen über viele intime Themen\, von der psychischen Gesundheit bis hin zur unendlichen Komplexität und Ungewissheit der Liebe. Es ist musikalisch wie textlich eine faszinierende Standortbestimmung\, wie man seinem Herzen bis zur absoluten Wahrheit folgt. Während er sich darauf vorbereitet\, sein bisher persönlichstes Material in einer außergewöhnlichen Karriere zu teilen\, brennt Horan ganz besonders darauf\, auf die Bühne zurückzukehren – und zu seiner ersten Welttournee seit 2018 aufzubrechen. (Quelle: Live Nation)
URL:https://xity.de/event/niall-horan-in-concert/
LOCATION:PSD Bank Dome\, Theodorstr. 281\, Düsseldorf\, NRW\, 40472\, Deutschland
CATEGORIES:Konzert
ATTACH;FMTTYPE=image/jpeg:https://xity.de/wp-content/uploads/2023/07/Horan.jpg
END:VEVENT
END:VCALENDAR