BEGIN:VCALENDAR
VERSION:2.0
PRODID:-//xity.de - ECPv6.15.20//NONSGML v1.0//EN
CALSCALE:GREGORIAN
METHOD:PUBLISH
X-ORIGINAL-URL:https://xity.de
X-WR-CALDESC:Veranstaltungen für xity.de
REFRESH-INTERVAL;VALUE=DURATION:PT1H
X-Robots-Tag:noindex
X-PUBLISHED-TTL:PT1H
BEGIN:VTIMEZONE
TZID:Europe/Berlin
BEGIN:DAYLIGHT
TZOFFSETFROM:+0100
TZOFFSETTO:+0200
TZNAME:CEST
DTSTART:20240331T010000
END:DAYLIGHT
BEGIN:STANDARD
TZOFFSETFROM:+0200
TZOFFSETTO:+0100
TZNAME:CET
DTSTART:20241027T010000
END:STANDARD
BEGIN:DAYLIGHT
TZOFFSETFROM:+0100
TZOFFSETTO:+0200
TZNAME:CEST
DTSTART:20250330T010000
END:DAYLIGHT
BEGIN:STANDARD
TZOFFSETFROM:+0200
TZOFFSETTO:+0100
TZNAME:CET
DTSTART:20251026T010000
END:STANDARD
BEGIN:DAYLIGHT
TZOFFSETFROM:+0100
TZOFFSETTO:+0200
TZNAME:CEST
DTSTART:20260329T010000
END:DAYLIGHT
BEGIN:STANDARD
TZOFFSETFROM:+0200
TZOFFSETTO:+0100
TZNAME:CET
DTSTART:20261025T010000
END:STANDARD
END:VTIMEZONE
BEGIN:VEVENT
DTSTART;TZID=Europe/Berlin:20250121T193000
DTEND;TZID=Europe/Berlin:20250121T193000
DTSTAMP:20260420T073245
CREATED:20250106T130202Z
LAST-MODIFIED:20250106T130202Z
UID:135234-1737487800-1737487800@xity.de
SUMMARY:PopAffaire 2025 im zakk Düsseldorf
DESCRIPTION:Serge&Nina bringen deutsche und französische Pop-Musik am 21. Januar 2025 im zakk Düsseldorf auf eine Bühne. Der Deutsch-Französische Tag findet jedes Jahr am 22. Januar statt – ein besonderes Datum in der Geschichte der deutsch-französischen Beziehungen. Am 22. Januar 1963 unterzeichneten Konrad Adenauer und Charles de Gaulle den Élysée-Vertrag\, der den Grundstein für die Freundschaft zwischen Deutschland und Frankreich legte. 40 Jahre später\, im Jahr 2003\, riefen Gerhard Schröder und Jacques Chirac den ersten Deutsch-Französischen Tag ins Leben. Mit dem Vertrag von Aachen bekräftigten Angela Merkel und Emmanuel Macron am 22. Januar 2019 die enge Zusammenarbeit beider Länder und legten unter anderem den Grundstein für den Deutsch-Französischen Bürgerfonds. \nUm auch 2025 die deutsch-französische Freundschaft gebührend zu feiern\, präsentieren die Veranstalter:innen Corinna Oetken & Bastien Nadal von Serge&Nina einen besonderen Abend am 21. Januar 2025 im zakk in Düsseldorf. Die gemeinnützige Organisation hat sich auf interkulturelle Musikprojekte spezialisiert\, die französische Künstlerinnen und Künstler in Deutschland sichtbar machen. Dieses Jahr bringen sie Ichon und Sprachmemo auf die Bühne. \nIchon – Ein Künstler ohne Grenzen\nIchon beschreitet neue\, unkonventionelle Wege im Hip-Hop. Mit unbestreitbarem Schreibtalent und einem erstaunlichen Sinn für Ästhetik hat der Rapper und Sänger seit seinem ersten Projekt „Cyclique“ im Jahr 2014 immer wieder fasziniert und verwirrt. Er wagt es\, traditionelle Genres aufzubrechen und seinen eigenen\, tief authentischen Sound zu kreieren. Poesie\, Melancholie und Experimentierfreude verschmelzen zu einer ganz eigenen Klanglandschaft\, die Hip-Hop mit Jazz\, Chanson und Indie-Elementen verbindet. Ichon lässt seine Zuhörer:innen an seinen inneren Konflikten\, seiner Verletzlichkeit und gleichzeitig seiner Lebensfreude teilhaben. Er ist ein Künstler\, der sich nicht an Erwartungen bindet\, sondern seine eigene Geschichte schreibt – voller Tiefe\, Sensibilität und musikalischer Eleganz. \nSprachmemo – Emotionen in Klangwelten\n„Es ist bedeutsam\, was du fühlst\, und du bist nicht allein damit.“ Das geben die Songs der Düsseldorfer Band Sprachmemo zu verstehen. Zum sonnigen Paprika-mit-Hummus-Picknick am See entstand ein Sommer-Hit\, der so gut geschmeckt hat\, dass sich daraus das Deutsch-Pop-Duo Sprachmemo gründete. Mit Vorbildern wie Paula Hartmann\, FKA Twigs und Mura Masa schreiben und produzieren sie ihre Songs in eigenen Klangwelten und veröffentlichen ihre nie versendeten Sprachmemos. \nIhre Musik ist ein Spiegel der Gefühle\, die im Alltag oft ungesagt bleiben\, und verwandelt sie in tanzbare\, melancholische und gleichzeitig kraftvolle Klänge\, die auf Anhieb berühren. Sprachmemo schafft es\, eine intime Atmosphäre zu erzeugen\, die gleichzeitig universell und nah wirkt.
URL:https://xity.de/event/popaffaire-2025-im-zakk-duesseldorf/
LOCATION:Zentrum für Aktion und Kommunikation (zakk)\, Fichtenstraße 40\, Düsseldorf\, NRW\, 40233\, Deutschland
CATEGORIES:Konzert
ATTACH;FMTTYPE=image/jpeg:https://xity.de/wp-content/uploads/2023/10/zakk_DP.jpg
END:VEVENT
END:VCALENDAR