BEGIN:VCALENDAR
VERSION:2.0
PRODID:-//xity.de - ECPv6.15.20//NONSGML v1.0//EN
CALSCALE:GREGORIAN
METHOD:PUBLISH
X-ORIGINAL-URL:https://xity.de
X-WR-CALDESC:Veranstaltungen für xity.de
REFRESH-INTERVAL;VALUE=DURATION:PT1H
X-Robots-Tag:noindex
X-PUBLISHED-TTL:PT1H
BEGIN:VTIMEZONE
TZID:Europe/Berlin
BEGIN:DAYLIGHT
TZOFFSETFROM:+0100
TZOFFSETTO:+0200
TZNAME:CEST
DTSTART:20240331T010000
END:DAYLIGHT
BEGIN:STANDARD
TZOFFSETFROM:+0200
TZOFFSETTO:+0100
TZNAME:CET
DTSTART:20241027T010000
END:STANDARD
BEGIN:DAYLIGHT
TZOFFSETFROM:+0100
TZOFFSETTO:+0200
TZNAME:CEST
DTSTART:20250330T010000
END:DAYLIGHT
BEGIN:STANDARD
TZOFFSETFROM:+0200
TZOFFSETTO:+0100
TZNAME:CET
DTSTART:20251026T010000
END:STANDARD
BEGIN:DAYLIGHT
TZOFFSETFROM:+0100
TZOFFSETTO:+0200
TZNAME:CEST
DTSTART:20260329T010000
END:DAYLIGHT
BEGIN:STANDARD
TZOFFSETFROM:+0200
TZOFFSETTO:+0100
TZNAME:CET
DTSTART:20261025T010000
END:STANDARD
END:VTIMEZONE
BEGIN:VEVENT
DTSTART;VALUE=DATE:20250110
DTEND;VALUE=DATE:20250401
DTSTAMP:20260420T081639
CREATED:20250108T144329Z
LAST-MODIFIED:20250108T144329Z
UID:136082-1736467200-1743465599@xity.de
SUMMARY:Filmmuseum zeigt neue Studioausstellung "Nosferatu Revisited"
DESCRIPTION:Das Filmmuseum Düsseldorf\, Schulstraße 4\, zeigt ab Freitag\, 10. Januar 2025\, die Studioausstellung „Nosferatu Revisited“. Die Ausstellung eröffnet um 18:00 Uhr mit der Inszenierung „Nosferatu – Ein Menuett der Schatten“. Zu sehen ist die Ausstellung bis zum 31. März 2025. \n„Nosferatu Revisited – Ein filmischer Klassiker zwischen schwarzer Romantik und Naturmystik“ ist einem Filmklassiker gewidmet: das Original\, „Nosferatu – eine Symhonie des Grauens“\, von Friedrich Wilhelm Murnau entstand 1921/22. 1979 erweckten Werner Herzog und Klaus Kinski den Vampir-Grafen erneut zum Leben. Im Januar folgte nun die Neuverfilmung durch den US-amerikanischen Regisseur Robert Eggers\, „Nosferatu – Der Untote“ mit Lily-Rose Depp\, Nicholas Hoult\, Willem Dafoe und Bill Skarsgård als Orlok. \nDie Studioausstellung im Filmmuseum ordnet die Filmversionen zeit- und wirkungsgeschichtlich ein. Auch die Hintergründe der einzelnen Produktionen werden beleuchtet. Gezeigt werden Originalaufnahmen\, Entwürfe und Grafiken des Filmarchitekten und Produzenten Albin Grau zum Murnau-Film oder Klaus Kinskis Originalkostüm sowie Klauen und Zähne aus Herzogs Wiederbelebung des Mythos. Auch die Bilder aus der Neuverfilmung deuten in ihren an Caspar David Friedrich erinnernden – hier nun aber alptraumhaft verkehrten – Landschaften eine bestimmte Linie an: die der Schwarzen Romantik. \nEin zeitloses Meisterwerk im Fokus \nNosferatu bleibt ein zeitloses Meisterwerk\, das die Grundlagen des Horror- und Vampirfilms maßgeblich geprägt hat und bis heute Neuverfilmungen erfährt. Als besonders einflussreich erweist sich die Ästhetik seiner expressionistischen Bildsprache. Albin Grau gilt als eine für die Produktion zentrale Figur\, da er als Mitbegründer der Prana-Film die finanziellen Mittel bereitstellte und als Szenenbildner Murnaus kreative Vision maßgeblich beeinflusste. Seine Faszination für das Übernatürliche und Okkulte prägte die Symbolik und visuelle Gestaltung des Films. Deutlich wird der Einfluss der Schwarzen Romantik – einer künstlerischen Bewegung\, die sich mit dem Unheimlichen und Übernatürlichen sowie den Abgründen der menschlichen Psyche befasst – in der Verwendung von Schatten und Licht oder der unheimlichen Gestaltung von nebelverhangenen Landschaften. \nEröffnet wird die Studioausstellung am Freitag um 18 Uhr mit der Inszenierung „Nosferatu – Ein Menuett der Schatten“ (Buch und Regie: Gisbert Franken). Diese ist zugleich Prequel als auch Sequel zu Murnaus berühmten Nosferatu-Film. Sie verfolgt den Ahnherrn aller Vampire durch die Jahrhunderte – wir erleben ihn unter anderem im mittelalterlichen Gotland und im ausgebombten Berlin gegen Ende des Zweiten Weltkriegs. Schauspieler Gerd J. Pohl verkörpert den Vampirjäger Maximilian von Hassler ebenso wie Nosferatu selbst\, letzteren unter Verwendung einer meisterlich gearbeiteten Großfigur (Puppenbildner: Jürgen Maaßen)\, die nach ihrem Einsatz in der Performance während der Vernissage auch in der Ausstellung zu sehen sein wird. \nDie Eröffnung ist kostenlos. Anlässlich der Studioausstellung werden zudem spezielle Themenführungen und Workshops angeboten.Reservierungen sind an der Kasse des Filmmuseums telefonisch unter 0211-8992232 möglich. \nBegleitprogramm \nDie Studioausstellung wird von einer Stummfilmaufführung von „Nosferatu – Symphonie des Granuens“ am Samstag\, 25. Januar 2025\, begleitet. \nNosferatu – Symphonie des Granuens: D 1922 · 101 min · dt. Zwischentitel · digitalDCP · FSK 12 · R: Friedrich Wilhelm Murnau · B: Henrik Galeen nach einer Vorlage von Bram Stoker · K: Fritz Arno Wagner\, Günther Krampf · D: Max Schreck\, Gustav von Wangenheim\, Greta Schröder u. a. \nDie Geschichte folgt dem jungen Makler Thomas Hutter\, der nach Transsylvanien reist\, um ein Immobiliengeschäft mit dem mysteriösen Grafen Orlok abzuschließen. Bald entdeckt er jedoch\, dass Orlok ein Vampir ist\, der in die Stadt Wisborg zieht\, um dort Unheil anzurichten. \nPietro Pittari (Erkrath) begleitet am Klavier. Die Veranstaltung ist eine Kooperation mit dem Stummfilm Magazin.
URL:https://xity.de/event/filmmuseum-zeigt-neue-studioausstellung-nosferatu-revisited/
LOCATION:Filmmuseum\, Schulstraße 4\, Düsseldorf\, NRW\, Deutschland
CATEGORIES:Ausstellung
ATTACH;FMTTYPE=image/jpeg:https://xity.de/wp-content/uploads/2025/01/250108-Eroeffnung_Austellung_Nosferatu_Filmmuseum.jpg
END:VEVENT
END:VCALENDAR