BEGIN:VCALENDAR
VERSION:2.0
PRODID:-//xity.de - ECPv6.15.20//NONSGML v1.0//EN
CALSCALE:GREGORIAN
METHOD:PUBLISH
X-WR-CALNAME:xity.de
X-ORIGINAL-URL:https://xity.de
X-WR-CALDESC:Veranstaltungen für xity.de
REFRESH-INTERVAL;VALUE=DURATION:PT1H
X-Robots-Tag:noindex
X-PUBLISHED-TTL:PT1H
BEGIN:VTIMEZONE
TZID:Europe/Berlin
BEGIN:DAYLIGHT
TZOFFSETFROM:+0100
TZOFFSETTO:+0200
TZNAME:CEST
DTSTART:20230326T010000
END:DAYLIGHT
BEGIN:STANDARD
TZOFFSETFROM:+0200
TZOFFSETTO:+0100
TZNAME:CET
DTSTART:20231029T010000
END:STANDARD
BEGIN:DAYLIGHT
TZOFFSETFROM:+0100
TZOFFSETTO:+0200
TZNAME:CEST
DTSTART:20240331T010000
END:DAYLIGHT
BEGIN:STANDARD
TZOFFSETFROM:+0200
TZOFFSETTO:+0100
TZNAME:CET
DTSTART:20241027T010000
END:STANDARD
BEGIN:DAYLIGHT
TZOFFSETFROM:+0100
TZOFFSETTO:+0200
TZNAME:CEST
DTSTART:20250330T010000
END:DAYLIGHT
BEGIN:STANDARD
TZOFFSETFROM:+0200
TZOFFSETTO:+0100
TZNAME:CET
DTSTART:20251026T010000
END:STANDARD
END:VTIMEZONE
BEGIN:VEVENT
DTSTART;TZID=Europe/Berlin:20241009T200000
DTEND;TZID=Europe/Berlin:20241009T200000
DTSTAMP:20260419T210250
CREATED:20240924T140401Z
LAST-MODIFIED:20240924T140401Z
UID:107855-1728504000-1728504000@xity.de
SUMMARY:Na hör’n Sie mal
DESCRIPTION:Seit über 40 Jahren beschäftigt sich das notabu.ensemble neue musik mit neuer und neuester Konzertmusik. In seiner Konzertreihe »Na hör’n Sie mal« im Helmut-Hentrich-Saal der Tonhalle darf das Publikum weder Standards noch viel Gehörtes erwarten. Der Konzertsaal mutiert zur Experimentierstube. Mal still und meditativ\, mal bombastisch-mitreißend – ganz nah dran an den Musikerinnen und Musikern erleben die Gäste die Grenzenlosigkeit aktueller Klangsprachen. 30 Minuten vor dem Konzert gibt es in der Einführungsreihe »Spacewalk« Gelegenheit\, mehr über die Komponistinnen und Komponisten sowie die Werke des Programms zu erfahren. \nBeim zweiten Saisonkonzert am 9. Oktober stehen u. a. Werke von Yasuko Yamaguchi\, Cristobal Halffter und Raimund Juelich auf dem Programm. Außerdem wir es einen kleinen Abschiedsgruß für den Ende Juli verstorbenen Wolfgang Rihm geben\, der in der Vergangenheit auch schon einmal ein Festival des notabu.ensemble kuratiert hatte. Von Rihm wird das Werk »Am Horizont – stille Szene« für Violine\, Violoncello und Akkordeon zu hören sein.
URL:https://xity.de/event/na-hoern-sie-mal-6/
LOCATION:Tonhalle Düsseldorf\, Ehrenhof 1\, Düsseldorf\, NRW\, 40479\, Deutschland
CATEGORIES:Konzert
ATTACH;FMTTYPE=image/jpeg:https://xity.de/wp-content/uploads/2023/04/tonhalle2.jpg
END:VEVENT
END:VCALENDAR