BEGIN:VCALENDAR
VERSION:2.0
PRODID:-//xity.de - ECPv6.15.20//NONSGML v1.0//EN
CALSCALE:GREGORIAN
METHOD:PUBLISH
X-WR-CALNAME:xity.de
X-ORIGINAL-URL:https://xity.de
X-WR-CALDESC:Veranstaltungen für xity.de
REFRESH-INTERVAL;VALUE=DURATION:PT1H
X-Robots-Tag:noindex
X-PUBLISHED-TTL:PT1H
BEGIN:VTIMEZONE
TZID:Europe/Berlin
BEGIN:DAYLIGHT
TZOFFSETFROM:+0100
TZOFFSETTO:+0200
TZNAME:CEST
DTSTART:20230326T010000
END:DAYLIGHT
BEGIN:STANDARD
TZOFFSETFROM:+0200
TZOFFSETTO:+0100
TZNAME:CET
DTSTART:20231029T010000
END:STANDARD
BEGIN:DAYLIGHT
TZOFFSETFROM:+0100
TZOFFSETTO:+0200
TZNAME:CEST
DTSTART:20240331T010000
END:DAYLIGHT
BEGIN:STANDARD
TZOFFSETFROM:+0200
TZOFFSETTO:+0100
TZNAME:CET
DTSTART:20241027T010000
END:STANDARD
BEGIN:DAYLIGHT
TZOFFSETFROM:+0100
TZOFFSETTO:+0200
TZNAME:CEST
DTSTART:20250330T010000
END:DAYLIGHT
BEGIN:STANDARD
TZOFFSETFROM:+0200
TZOFFSETTO:+0100
TZNAME:CET
DTSTART:20251026T010000
END:STANDARD
END:VTIMEZONE
BEGIN:VEVENT
DTSTART;TZID=Europe/Berlin:20240515T200000
DTEND;TZID=Europe/Berlin:20240515T200000
DTSTAMP:20260420T105800
CREATED:20240403T122211Z
LAST-MODIFIED:20240403T122211Z
UID:52641-1715803200-1715803200@xity.de
SUMMARY:Na hör’n Sie mal
DESCRIPTION:Wenn Komponist\, Organist und Kirchenmusiker Oskar Gottlieb Blarr im Mai 90. Geburtstag hat und Günther Becker\, einer seiner Kompositionslehrer und einst Mentor des notabu.ensembles\, am 1. April vor 100 Jahren geboren wurde\, steht außer Frage\, wer im Konzert am 15. Mai »mit großem Besteck« gewürdigt wird! Zum Abschlusskonzert der Jubiläumssaison 2023/24 kommen deshalb so viele Musikerinnen und Musiker auf die Bühne des Helmut-Hentrich-Saals wie selten zuvor. Es wird eng und festlich\, die Sitzplätze werden möglicherweise knapp! \nDie Saison 2023/24 der Konzertreihe »Na hör’n Sie mal« ist geprägt vom 40-jährigen Jubiläum des notabu.ensemble neue musik. Seit 1983 beschäftigt sich das Ensemble mit neuer und neuester Konzertmusik. Das Publikum erwartet weder Standards noch viel Gehörtes. Der Konzertsaal mutiert zur Experimentierstube. Mal still und meditativ\, mal bombastisch-mitreißend – ganz nah dran an den Musikerinnen und Musikern erleben die Gäste die Grenzenlosigkeit aktueller Klangsprachen. 30 Minuten vor dem Konzert gibt es in der Einführungsreihe »Spacewalk« Gelegenheit\, mehr über die Komponistinnen und Komponisten sowie die Werke des Programms zu erfahren. \nMittwoch\, 15. Mai 2024\, 20:00 Uhr\nTickets: 18 Euro\, Studierende\, Auszubildende und Schüler:innen 8 Euro   
URL:https://xity.de/event/na-hoern-sie-mal-4/
LOCATION:Tonhalle Düsseldorf\, Ehrenhof 1\, Düsseldorf\, NRW\, 40479\, Deutschland
CATEGORIES:Konzert
ATTACH;FMTTYPE=image/jpeg:https://xity.de/wp-content/uploads/2023/05/Tonhalle_DC.jpg
END:VEVENT
END:VCALENDAR