BEGIN:VCALENDAR
VERSION:2.0
PRODID:-//xity.de - ECPv6.15.20//NONSGML v1.0//EN
CALSCALE:GREGORIAN
METHOD:PUBLISH
X-ORIGINAL-URL:https://xity.de
X-WR-CALDESC:Veranstaltungen für xity.de
REFRESH-INTERVAL;VALUE=DURATION:PT1H
X-Robots-Tag:noindex
X-PUBLISHED-TTL:PT1H
BEGIN:VTIMEZONE
TZID:Europe/Berlin
BEGIN:DAYLIGHT
TZOFFSETFROM:+0100
TZOFFSETTO:+0200
TZNAME:CEST
DTSTART:20230326T010000
END:DAYLIGHT
BEGIN:STANDARD
TZOFFSETFROM:+0200
TZOFFSETTO:+0100
TZNAME:CET
DTSTART:20231029T010000
END:STANDARD
BEGIN:DAYLIGHT
TZOFFSETFROM:+0100
TZOFFSETTO:+0200
TZNAME:CEST
DTSTART:20240331T010000
END:DAYLIGHT
BEGIN:STANDARD
TZOFFSETFROM:+0200
TZOFFSETTO:+0100
TZNAME:CET
DTSTART:20241027T010000
END:STANDARD
BEGIN:DAYLIGHT
TZOFFSETFROM:+0100
TZOFFSETTO:+0200
TZNAME:CEST
DTSTART:20250330T010000
END:DAYLIGHT
BEGIN:STANDARD
TZOFFSETFROM:+0200
TZOFFSETTO:+0100
TZNAME:CET
DTSTART:20251026T010000
END:STANDARD
END:VTIMEZONE
BEGIN:VEVENT
DTSTART;TZID=Europe/Berlin:20240417T200000
DTEND;TZID=Europe/Berlin:20240417T200000
DTSTAMP:20260420T122739
CREATED:20240305T143819Z
LAST-MODIFIED:20240305T143819Z
UID:44708-1713384000-1713384000@xity.de
SUMMARY:Na hör’n Sie mal
DESCRIPTION:Die Saison 2023/24 unserer Konzertreihe »Na hör’n Sie mal« ist geprägt vom 40-jährigen Jubiläum des notabu.ensemble neue musik. Seit 1983 beschäftigt sich das Ensemble mit neuer und neuester Konzertmusik. Das Konzert am 17. April findet aufgrund der großen Besetzung ausnahmsweise nicht im Helmut-Hentrich-Saal der Tonhalle\, sondern in der Neanderkirche in der Düsseldorfer Altstadt statt. Highlight des Programms ist die Uraufführung von »… in the struggle for life«\, das Mark-Andreas Schlingensiepen\, Komponist und Leiter des Ensembles\, während der Corona-Pandemie schrieb. Mit von der Partie ist der Chor der Akademie für Chor und Musiktheater. Bariton Martin Lindsay\, dem das Werk gewidmet ist\, singt die Rolle des Charles Darwin. Außerdem ist Cristobal Halffters Streichsextett »endechas para una reina de españa« zu hören und »Monolog« von Isang Yun. \nBei »Na hör’n Sie mal!«\, der Kammermusikreihe des notabu.ensemble neue musik\, erwartet das Publikum weder Standards noch viel Gehörtes. Der Konzertsaal mutiert zur Experimentierstube. Mal still und meditativ\, mal bombastisch-mitreißend – ganz nah dran an den Musikerinnen und Musikern erleben die Gäste die Grenzenlosigkeit aktueller Klangsprachen. 30 Minuten vor dem Konzert gibt es in der Einführungsreihe »Spacewalk « Gelegenheit\, mehr über die Komponisten sowie die Werke des Programms zu erfahren.
URL:https://xity.de/event/na-hoern-sie-mal-3/
LOCATION:Tonhalle Düsseldorf\, Ehrenhof 1\, Düsseldorf\, NRW\, 40479\, Deutschland
CATEGORIES:Konzert
ATTACH;FMTTYPE=image/jpeg:https://xity.de/wp-content/uploads/2024/02/tonhalle1.jpg
END:VEVENT
END:VCALENDAR