BEGIN:VCALENDAR
VERSION:2.0
PRODID:-//xity.de - ECPv6.15.20//NONSGML v1.0//EN
CALSCALE:GREGORIAN
METHOD:PUBLISH
X-WR-CALNAME:xity.de
X-ORIGINAL-URL:https://xity.de
X-WR-CALDESC:Veranstaltungen für xity.de
REFRESH-INTERVAL;VALUE=DURATION:PT1H
X-Robots-Tag:noindex
X-PUBLISHED-TTL:PT1H
BEGIN:VTIMEZONE
TZID:Europe/Berlin
BEGIN:DAYLIGHT
TZOFFSETFROM:+0100
TZOFFSETTO:+0200
TZNAME:CEST
DTSTART:20220327T010000
END:DAYLIGHT
BEGIN:STANDARD
TZOFFSETFROM:+0200
TZOFFSETTO:+0100
TZNAME:CET
DTSTART:20221030T010000
END:STANDARD
BEGIN:DAYLIGHT
TZOFFSETFROM:+0100
TZOFFSETTO:+0200
TZNAME:CEST
DTSTART:20230326T010000
END:DAYLIGHT
BEGIN:STANDARD
TZOFFSETFROM:+0200
TZOFFSETTO:+0100
TZNAME:CET
DTSTART:20231029T010000
END:STANDARD
BEGIN:DAYLIGHT
TZOFFSETFROM:+0100
TZOFFSETTO:+0200
TZNAME:CEST
DTSTART:20240331T010000
END:DAYLIGHT
BEGIN:STANDARD
TZOFFSETFROM:+0200
TZOFFSETTO:+0100
TZNAME:CET
DTSTART:20241027T010000
END:STANDARD
END:VTIMEZONE
BEGIN:VEVENT
DTSTART;VALUE=DATE:20230609
DTEND;VALUE=DATE:20230612
DTSTAMP:20260424T194232
CREATED:20230605T130104Z
LAST-MODIFIED:20230605T130104Z
UID:5192-1686268800-1686527999@xity.de
SUMMARY:Breathing Water\, Drinking Air
DESCRIPTION:Düsseldorf – Die Sammlung Philara freut sich mit Breathing Water\, Drinking Air eine neue\, umfassende Sammlungspräsentation zu eröffnen. Um die große Spannbreite und vielfältigen Anknüpfungspunkte der Sammlung zu präsentieren\, die aus den ausufernden und asymmetrischen Bewegungen einer Lust am Sammeln entstanden sind\, werden Werke der Sammlung jedes Jahr in neuen Zusammenhängen und mit thematischen Schwerpunkten gezeigt. \n\n\n\n\n\n\n\nDie Ausstellung zeigt nie zuvor präsentierte Werke des Bestandes und eröffnet neue Sichtweisen auf bereits bekannte Arbeiten. Sie umfasst internationale sowie lokale Gegenwartskunst aus den Bereichen Fotografie\, Malerei\, Video\, Skulptur\, Installation und Performance. Breathing Water\, Drinking Air befasst sich mit dem Nachdenken in der und über die Natur sowie der Hierarchisierung von Mensch und Natur. So thematisieren die Werke der Ausstellung durchlässige Grenzen\, Austausch und Interaktion sowie die Handlungsfähigkeit der Natur in Zeiten\, die oft als ‚Anthropozän‘ bezeichnet werden und in denen sich das Verhältnis zwischen Mensch und Natur grundlegend verändert hat. Die kostbaren und suggestiven Ressourcen Luft und Wasser stehen dabei für eine Welt unbekannter Existenzen\, ebenso wie für grundsätzliche Denkfiguren\, die sich für weitere Perspektiven öffnen. Atmen und Trinken werden darin nicht nur als essenzielle Versorgungs- und Überlebenstätigkeiten verstanden\, sondern auch als ein Neuverhandeln der Relationen von Mensch und Umwelt in der Überwindung des Anthropozentrismus. So eröffnen die gezeigten Werke auch Fragen zu neuen Erzählungen und Sensibilitäten hinsichtlich unserer gegenseitigen Verbundenheit und Durchlässigkeit: Inwiefern können wir mit den Mitteln der Kunst Kenntnisse über unsere physikalische\, biologische\, chemische und geistige Welt erlangen? Was zeigen uns die Werke in Bezug auf unsere Fähigkeit zum Kontakt\, zum Dialog und unsere Formen von Koexistenz? \nArbeiten von: Jan Albers\, Sam Anderson\, Gili Avissar\, Maximiliane Baumgartner\, Hicham Berrada\, Julius von Bismarck\, Katinka Bock\, Andrea Bowers\, Nathalie Djurberg & Hans Berg\, Alex Grein\, Thomas Grünfeld\, Petrit Halilaj\, Nschotschi Haslinger\, Camille Henrot\, Anne Imhof\, Allison Katz\, Zsófia Keresztes\, Per Kirkeby\, Kinke Kooi\, Corinne von Lebusa\, Rosa Loy\, Rosilene Luduvico\, David Nash\, Susan Philipsz\, Laure Prouvost\, Thomas Scheibitz\, Anna Vogel\, Raphaela Vogel (Quelle: Sammlung Philara)
URL:https://xity.de/event/breathing-water-drinking-air/
LOCATION:Sammlung Philara\, Birkenstraße 47a\, Düsseldorf\, NRW\, 40233\, Deutschland
CATEGORIES:Ausstellung
ATTACH;FMTTYPE=image/jpeg:https://xity.de/wp-content/uploads/2023/06/Tranche.jpg
END:VEVENT
END:VCALENDAR