BEGIN:VCALENDAR
VERSION:2.0
PRODID:-//xity.de - ECPv6.15.20//NONSGML v1.0//EN
CALSCALE:GREGORIAN
METHOD:PUBLISH
X-ORIGINAL-URL:https://xity.de
X-WR-CALDESC:Veranstaltungen für xity.de
REFRESH-INTERVAL;VALUE=DURATION:PT1H
X-Robots-Tag:noindex
X-PUBLISHED-TTL:PT1H
BEGIN:VTIMEZONE
TZID:Europe/Berlin
BEGIN:DAYLIGHT
TZOFFSETFROM:+0100
TZOFFSETTO:+0200
TZNAME:CEST
DTSTART:20220327T010000
END:DAYLIGHT
BEGIN:STANDARD
TZOFFSETFROM:+0200
TZOFFSETTO:+0100
TZNAME:CET
DTSTART:20221030T010000
END:STANDARD
BEGIN:DAYLIGHT
TZOFFSETFROM:+0100
TZOFFSETTO:+0200
TZNAME:CEST
DTSTART:20230326T010000
END:DAYLIGHT
BEGIN:STANDARD
TZOFFSETFROM:+0200
TZOFFSETTO:+0100
TZNAME:CET
DTSTART:20231029T010000
END:STANDARD
BEGIN:DAYLIGHT
TZOFFSETFROM:+0100
TZOFFSETTO:+0200
TZNAME:CEST
DTSTART:20240331T010000
END:DAYLIGHT
BEGIN:STANDARD
TZOFFSETFROM:+0200
TZOFFSETTO:+0100
TZNAME:CET
DTSTART:20241027T010000
END:STANDARD
END:VTIMEZONE
BEGIN:VEVENT
DTSTART;TZID=Europe/Berlin:20230620T193000
DTEND;TZID=Europe/Berlin:20230620T220000
DTSTAMP:20260420T033509
CREATED:20230612T120625Z
LAST-MODIFIED:20230612T120625Z
UID:5559-1687289400-1687298400@xity.de
SUMMARY:Sting „My Songs“-Tour 2023 - #Stadtsommer 2023
DESCRIPTION:Mönchengladbach – Sting „My Songs“-Tour 2023 Sting wird mit seiner gefeierten „My Songs“-Tour im Juni und Juli 2023 in Deutschland und Österreich auftreten. Die außergewöhnliche Performance präsentiert die beliebtesten Hits in der Karriere des 17-fachen Grammy Gewinner sowohl als Solo-Künstler wie auch mit The Police. In der Zeit vom 6. Juni bis 17. Juli tritt Sting in Bruchsaal\, Coburg\, Halle/Saale\, Wiesbaden\, Mönchengladbach\, Lingen\, Klagenfurt und Wien auf. \nSting: My Songs ist eine ausgelassene\, dynamische Show\, die sich auf die beliebtesten Songs von Sting konzentriert und die erfolgreiche Karriere des vielfach ausgezeichneten Künstlers. Fans dürfen sich auf eine musikalische Zeitreise mit Klassikern wie „Englishman In New York“\, „Fields Of Gold”\, „Shape Of My Heart”\, „Every Breath You Take”\, „Roxanne”\, „Message In A Bottle” sowie viele andere seiner Erfolge freuen. Sting wird dabei von einem elektrischen Rock-Ensemble begleitet.
URL:https://xity.de/event/sting-my-songs-tour-2023-stadtsommer-2023/
LOCATION:SparkassenPark Mönchengladbach\, Am Hockeypark 1\, Mönchengladbach\, NRW\, 41179\, Deutschland
CATEGORIES:Konzert
ATTACH;FMTTYPE=image/jpeg:https://xity.de/wp-content/uploads/2023/06/Sting.jpg
END:VEVENT
BEGIN:VEVENT
DTSTART;TZID=Europe/Berlin:20230622T200000
DTEND;TZID=Europe/Berlin:20230622T223000
DTSTAMP:20260420T033509
CREATED:20230612T121321Z
LAST-MODIFIED:20230612T121321Z
UID:5562-1687464000-1687473000@xity.de
SUMMARY:Lionel Richie – An Evening with Lionel Richie - #Stadtsommer 2023
DESCRIPTION:Mönchengladbach – Der internationale Superstar Lionel Richie kehrt nach sieben Jahren endlich für zwei Open Air Konzerte nach Deutschland zurück. Er spielt am 21. Juni in der Wiesbadener Brita Arena sowie am 22. Juni im Sparkassen Park in Mönchengladbach. Lionel Richie hat eine Diskografie von Alben und Singles vorzuweisen\, die ihresgleichen sucht. Mit mehr als 125 Millionen verkauften Alben weltweit ist seine Musik ein fester Bestandteil der Popmusik. Richie hat einen Oscar®\, einen Golden Globe® und vier Grammy Awards® gewonnen.\nDer aus Tuskegee\, Alabama\, stammende Musiker ist eine wahre Ikone der Musik. \nLionel Richie ist bekannt für seine Megahits wie „Endless Love“\, „Lady“\, „Truly“\, „All Night Long“\, „Penny Lover“\, „Stuck on You“\, „Hello“\, „Say You\, Say Me“\, „Dancing on the Ceiling“ und war Mitautor eines der wichtigsten Popsongs der Geschichte\, „We Are the World“\, für USA for Africa. Sein Songkatalog umfasst auch seine frühe Arbeit mit The Commodores\, wo er einen bahnbrechenden Stil entwickelte\, der sich über Genre-Kategorien hinwegsetzte und Hits wie „Three Times a Lady“\, „Still“ und „Easy“ hervorbrachte. Richie hat in 11 aufeinanderfolgenden Jahren #1 Songs geschrieben.
URL:https://xity.de/event/lionel-richie-an-evening-with-lionel-richie-stadtsommer-2023/
LOCATION:SparkassenPark Mönchengladbach\, Am Hockeypark 1\, Mönchengladbach\, NRW\, 41179\, Deutschland
CATEGORIES:Konzert
ATTACH;FMTTYPE=image/jpeg:https://xity.de/wp-content/uploads/2023/06/lionel-richie.jpg
END:VEVENT
END:VCALENDAR