BEGIN:VCALENDAR
VERSION:2.0
PRODID:-//xity.de - ECPv6.15.20//NONSGML v1.0//EN
CALSCALE:GREGORIAN
METHOD:PUBLISH
X-ORIGINAL-URL:https://xity.de
X-WR-CALDESC:Veranstaltungen für xity.de
REFRESH-INTERVAL;VALUE=DURATION:PT1H
X-Robots-Tag:noindex
X-PUBLISHED-TTL:PT1H
BEGIN:VTIMEZONE
TZID:Europe/Berlin
BEGIN:DAYLIGHT
TZOFFSETFROM:+0100
TZOFFSETTO:+0200
TZNAME:CEST
DTSTART:20230326T010000
END:DAYLIGHT
BEGIN:STANDARD
TZOFFSETFROM:+0200
TZOFFSETTO:+0100
TZNAME:CET
DTSTART:20231029T010000
END:STANDARD
BEGIN:DAYLIGHT
TZOFFSETFROM:+0100
TZOFFSETTO:+0200
TZNAME:CEST
DTSTART:20240331T010000
END:DAYLIGHT
BEGIN:STANDARD
TZOFFSETFROM:+0200
TZOFFSETTO:+0100
TZNAME:CET
DTSTART:20241027T010000
END:STANDARD
BEGIN:DAYLIGHT
TZOFFSETFROM:+0100
TZOFFSETTO:+0200
TZNAME:CEST
DTSTART:20250330T010000
END:DAYLIGHT
BEGIN:STANDARD
TZOFFSETFROM:+0200
TZOFFSETTO:+0100
TZNAME:CET
DTSTART:20251026T010000
END:STANDARD
END:VTIMEZONE
BEGIN:VEVENT
DTSTART;TZID=Europe/Berlin:20240601T200000
DTEND;TZID=Europe/Berlin:20240601T200000
DTSTAMP:20260422T054831
CREATED:20240523T123716Z
LAST-MODIFIED:20240523T123716Z
UID:66673-1717272000-1717272000@xity.de
SUMMARY:Lia Pale: The Great Euopean Songbook
DESCRIPTION:Wie hätte Schuberts »Winterreise« wohl geklungen\, wenn Frank Sinatra sie gesungen hätte? Diese Frage stellte sich die Wiener Sängerin Lia Pale und entwickelte daraus das Programm »The Great European Songbook«. Mit ihrem Jazzquartett transformiert sie Lieder von Schubert\, Schumann oder Brahms in die Welt des Jazz. Sie trägt den funkelnden Zauber der Lieder der Romantik in neue Gefilde\, sinnlich und voller Überraschungen. \nLia Pale singt Kunstlieder als Songs\, weil sie an die Freiheit der Interpretation glaubt: »Man muss die Welt nicht immer neu erfinden\, aber neu interpretieren vielleicht«\, sagt die Jazzsängerin. »Wenn ich Glenn Gould’s Goldberg Variationen höre\, kommt es mir so vor\, als ob er Jazzpianist gewesen wäre. Gershwin’s Summertime wurde von Billie Holiday\, Janis Joplin und Jessye Norman interpretiert\, und deshalb glaube ich\, dass alle Genres in irgendeiner Art und Weise miteinander verbunden sind.«
URL:https://xity.de/event/lia-pale-the-great-euopean-songbook/
LOCATION:Tonhalle Düsseldorf\, Ehrenhof 1\, Düsseldorf\, NRW\, 40479\, Deutschland
CATEGORIES:Konzert
ATTACH;FMTTYPE=image/jpeg:https://xity.de/wp-content/uploads/2024/02/tonhalle1.jpg
END:VEVENT
END:VCALENDAR