BEGIN:VCALENDAR
VERSION:2.0
PRODID:-//xity.de - ECPv6.15.20//NONSGML v1.0//EN
CALSCALE:GREGORIAN
METHOD:PUBLISH
X-ORIGINAL-URL:https://xity.de
X-WR-CALDESC:Veranstaltungen für xity.de
REFRESH-INTERVAL;VALUE=DURATION:PT1H
X-Robots-Tag:noindex
X-PUBLISHED-TTL:PT1H
BEGIN:VTIMEZONE
TZID:Europe/Berlin
BEGIN:DAYLIGHT
TZOFFSETFROM:+0100
TZOFFSETTO:+0200
TZNAME:CEST
DTSTART:20220327T010000
END:DAYLIGHT
BEGIN:STANDARD
TZOFFSETFROM:+0200
TZOFFSETTO:+0100
TZNAME:CET
DTSTART:20221030T010000
END:STANDARD
BEGIN:DAYLIGHT
TZOFFSETFROM:+0100
TZOFFSETTO:+0200
TZNAME:CEST
DTSTART:20230326T010000
END:DAYLIGHT
BEGIN:STANDARD
TZOFFSETFROM:+0200
TZOFFSETTO:+0100
TZNAME:CET
DTSTART:20231029T010000
END:STANDARD
BEGIN:DAYLIGHT
TZOFFSETFROM:+0100
TZOFFSETTO:+0200
TZNAME:CEST
DTSTART:20240331T010000
END:DAYLIGHT
BEGIN:STANDARD
TZOFFSETFROM:+0200
TZOFFSETTO:+0100
TZNAME:CET
DTSTART:20241027T010000
END:STANDARD
END:VTIMEZONE
BEGIN:VEVENT
DTSTART;TZID=Europe/Berlin:20230604T110000
DTEND;TZID=Europe/Berlin:20230604T180000
DTSTAMP:20260420T065930
CREATED:20230530T123150Z
LAST-MODIFIED:20230530T123150Z
UID:4594-1685876400-1685901600@xity.de
SUMMARY:Green We Can – Kunst für alle
DESCRIPTION:Düsseldorf – „Green We Can – Kunst für alle“ ist eine erstmalig stattfindende Open-Air-Kunstausstellung in Düsseldorf\, die eine der ältesten Parkanlagen in eine Galerie verwandelt. 30 lokale\, internationale\, renommierte Künstlerinnen und Künstlern zeigen ihre Werke am 4. Juni 2023 rund um den malerischen Weiher. \n\n\n\n\n\n\n\nAusgangspunkt der Ausstellung ist das Gemälde „Verschiffung nach Kythera“ von Jean Antoine Watteau. Das Gemälde ist Ausdruck einer kollektiven Sehnsucht nach dem Paradies. Zu sehen sind Menschen\, die das entspannte Beisammensein in der Natur genießen. Die Insel Kythera bietet hierfür das perfekte Urlaubsziel – eine Insel fernab von den Krisen der alltäglichen Welt. Und auch der Volksgarten ist in diesen Zeiten zum Zufluchtsort geworden\, eine Insel die hilft\, gerade im Zusammenspiel mit Kunst\, Kraft zu tanken. Corona-Pandemie\, Klimakrise\, Energiekrise\, Inflation und Kriege haben die Gesellschaft abrupt verändert und ziehen Auswirkungen auf den gesellschaftlichen Zusammenhalt nach sich. \nDer Art Walk soll zu einer Insel zum Luftholen mitten in der Großstadt werden. Besuchende sollen eintauchen in die Kunst und die besondere Atmosphäre dieses grünen Juwels erleben. Und da ist noch etwas\, was toll wäre: wenn die Kunstschau es schaffen würde\, das Bewusstsein zu schärfen für Klimakrise\, Artenvielfalt und Naturschutz – nicht mit erhobenem Zeigefinger\, sondern mit der Kraft der Sensibilisierung und Ästhetik der Natur. Die Diversität der Gesellschaft soll sich bei der Auswahl der Kunstschaffenden widerspiegeln. \nÜber 25 lokale und internationale Künstler*innen\, u.a. documenta Teilnehmende\, beleben mit ihren Werken eine der ältesten Grünanlagen \nDie Teilnehmenden zeigen auf Kunstpfad ihre Werke\, zudem gibt es Performances\, Kunst-Foto Shootings\, Lesungen und Live Schalte in den Senegal. \nPräsentiert werden die Objekte an verschiedenen Orten rund um den malerischen Weiher. Installationen\, Skulpturen\, Plastiken\, Zeichnungen\, Malereien\, Künstlerbücher\, Performances und Sound-Arbeiten sorgen für einen abwechslungsreichen Rundgang. (Quelle: Veranstalter) \nBei schlechtem Wetter (zum Beispiel: Regen\, Sturm) neuer Ersatztermin siehe Webseite: http://greenwecan.de
URL:https://xity.de/event/green-we-can-kunst-fuer-alle/
LOCATION:Volksgarten\, Stoffeler Kapellenweg\, Düsseldorf\, NRW\, 40227\, Deutschland
CATEGORIES:Führung
ATTACH;FMTTYPE=image/jpeg:https://xity.de/wp-content/uploads/2023/05/Volksgarten.jpg
END:VEVENT
END:VCALENDAR