BEGIN:VCALENDAR
VERSION:2.0
PRODID:-//xity.de - ECPv6.15.20//NONSGML v1.0//EN
CALSCALE:GREGORIAN
METHOD:PUBLISH
X-ORIGINAL-URL:https://xity.de
X-WR-CALDESC:Veranstaltungen für xity.de
REFRESH-INTERVAL;VALUE=DURATION:PT1H
X-Robots-Tag:noindex
X-PUBLISHED-TTL:PT1H
BEGIN:VTIMEZONE
TZID:Europe/Berlin
BEGIN:DAYLIGHT
TZOFFSETFROM:+0100
TZOFFSETTO:+0200
TZNAME:CEST
DTSTART:20220327T010000
END:DAYLIGHT
BEGIN:STANDARD
TZOFFSETFROM:+0200
TZOFFSETTO:+0100
TZNAME:CET
DTSTART:20221030T010000
END:STANDARD
BEGIN:DAYLIGHT
TZOFFSETFROM:+0100
TZOFFSETTO:+0200
TZNAME:CEST
DTSTART:20230326T010000
END:DAYLIGHT
BEGIN:STANDARD
TZOFFSETFROM:+0200
TZOFFSETTO:+0100
TZNAME:CET
DTSTART:20231029T010000
END:STANDARD
BEGIN:DAYLIGHT
TZOFFSETFROM:+0100
TZOFFSETTO:+0200
TZNAME:CEST
DTSTART:20240331T010000
END:DAYLIGHT
BEGIN:STANDARD
TZOFFSETFROM:+0200
TZOFFSETTO:+0100
TZNAME:CET
DTSTART:20241027T010000
END:STANDARD
END:VTIMEZONE
BEGIN:VEVENT
DTSTART;TZID=Europe/Berlin:20230923T200000
DTEND;TZID=Europe/Berlin:20230923T223000
DTSTAMP:20260420T140400
CREATED:20230919T103104Z
LAST-MODIFIED:20230919T103104Z
UID:12447-1695499200-1695508200@xity.de
SUMMARY:Mey & Edlich presented: Lordi - Tod und Teufel
DESCRIPTION:Düsseldorf – Sie sind bekannt für ihre außergewöhnlichen Bühnenkostüme\, für schräge Masken und dafür\, als erste Heavy Metal-Band den Eurovision Song Contest im Jahr 2006 gewonnen zu haben: die finnische Band Lordi. Der Rahmen des Konzerts könnte kaum besser gewählt sein: die 1992 gegründete finnische Hard Rock- und Heavy Metal-Band Lordi tritt am 23. September 2023\, 20:00 Uhr\, im Rahmen der Kunstpalast-Ausstellung „Tod und Teufel“ open air vor dem Kunstpalast Düsseldorf auf. Und während sich die Ausstellung in insgesamt 120 Werken mit der Faszination des Horrors in der Kunst und Gruselphänomen\, die den Atem stocken lassen\, in allen Facetten beschäftigt\, wird die Band Lordi mit ihrem Auftritt in Düsseldorf auch das musikalische Sujet zur Ausstellung liefern. Schließlich zeichnet sich die Band insbesondere durch ihre opulenten\, selbst gestalteten Bühnenkostüme aus\, die Zombies und Monster darstellen.\nDabei ist der Fantasie des Bandgründers Mr. Lordi\, der nicht nur der Namensgeber der Band sondern auch der Gestalter der ausgefallenen Kostüme ist\, keine Grenze gesetzt: egal ob reptilischer Troll\, Zombie-Pastor\, biomechanischer Roboterkobold oder lebensgroße Horrorpuppe – die Musikschaffenden der Band schlüpfen bei ihren Live-Auftritten stets in höchst unkonventionelle Kostüme\, die ihrer Musik auch optisch Nachdruck verleihen.\nAber nicht nur ihre Kostüme und ihre Bühnenshows sind ungewöhnlich: insbesondere die Tatsache\, dass Lordi 2006 mit deutlicher Mehrheit den Eurovision Song Contest als erste Heavy Metal-Band für sich entscheiden konnte\, macht aus den finnischen Musikerinnen und Musikern\, die gerne die Pommesgabel emporstrecken\, etwas ganz Besonderes.
URL:https://xity.de/event/mey-edlich-presented-lordi-tod-und-teufel/
LOCATION:Kunstpalast Düsseldorf\, Ehrenhof 4-5\, Düsseldorf\, NRW\, 40479\, Deutschland
CATEGORIES:Freizeit,Konzert,Kunst,Party
ATTACH;FMTTYPE=image/jpeg:https://xity.de/wp-content/uploads/2023/09/Lordi.jpg
END:VEVENT
END:VCALENDAR