BEGIN:VCALENDAR
VERSION:2.0
PRODID:-//xity.de - ECPv6.15.20//NONSGML v1.0//EN
CALSCALE:GREGORIAN
METHOD:PUBLISH
X-WR-CALNAME:xity.de
X-ORIGINAL-URL:https://xity.de
X-WR-CALDESC:Veranstaltungen für xity.de
REFRESH-INTERVAL;VALUE=DURATION:PT1H
X-Robots-Tag:noindex
X-PUBLISHED-TTL:PT1H
BEGIN:VTIMEZONE
TZID:Europe/Berlin
BEGIN:DAYLIGHT
TZOFFSETFROM:+0100
TZOFFSETTO:+0200
TZNAME:CEST
DTSTART:20220327T010000
END:DAYLIGHT
BEGIN:STANDARD
TZOFFSETFROM:+0200
TZOFFSETTO:+0100
TZNAME:CET
DTSTART:20221030T010000
END:STANDARD
BEGIN:DAYLIGHT
TZOFFSETFROM:+0100
TZOFFSETTO:+0200
TZNAME:CEST
DTSTART:20230326T010000
END:DAYLIGHT
BEGIN:STANDARD
TZOFFSETFROM:+0200
TZOFFSETTO:+0100
TZNAME:CET
DTSTART:20231029T010000
END:STANDARD
BEGIN:DAYLIGHT
TZOFFSETFROM:+0100
TZOFFSETTO:+0200
TZNAME:CEST
DTSTART:20240331T010000
END:DAYLIGHT
BEGIN:STANDARD
TZOFFSETFROM:+0200
TZOFFSETTO:+0100
TZNAME:CET
DTSTART:20241027T010000
END:STANDARD
END:VTIMEZONE
BEGIN:VEVENT
DTSTART;TZID=Europe/Berlin:20230805T140000
DTEND;TZID=Europe/Berlin:20230805T180000
DTSTAMP:20260420T153123
CREATED:20230602T142103Z
LAST-MODIFIED:20230627T111216Z
UID:5070-1691244000-1691258400@xity.de
SUMMARY:Citythriller: Dem Verbrechen auf der Spur
DESCRIPTION:Düsseldorf – Giftcocktail: Eine junge Frau wird von Ihrem Mann tot in der gemeinsamen Wohnung aufgefunden. Es gibt keine Anzeichen eines Einbruchs. Die Zeugen schieben sich gegenseitig die Schuld in die Schuhe und sind mit ihren verworrenen Aussagen nicht immer hilfreich. War der Mord die Tat einer einzelnen Person? Können Sie dieses Verbrechen lösen? \nBittere Pillen: Ein Spaziergänger entdeckt eine tote Joggerin an einem nahegelegenen See. Der hinzu gerufene Notarzt kann nur noch Herzversagen diagnostizieren. Doch die Obduktion kommt zu einem überraschenden\, anderen Ergebnis: Vergiftung! Wer hat die junge Pharmazeutisch Technische Assistentin (PTA) auf den Gewissen? Ihr privates Umfeld scheint intakt. Vielleicht zu intakt oder ist doch alles nur eine Fassade? Verfolgen Sie jede Spur um den Täter zu überführen! (Quelle: Citythriller)
URL:https://xity.de/event/citythriller-dem-verbrechen-auf-der-spur/
LOCATION:Kö-Bogen\, Kö-Bogen Düsseldorf\, Düsseldorf\, NRW\, 40212\, Deutschland
CATEGORIES:Führung
ATTACH;FMTTYPE=image/jpeg:https://xity.de/wp-content/uploads/2023/06/Thriller.jpg
END:VEVENT
BEGIN:VEVENT
DTSTART;TZID=Europe/Berlin:20230810T180000
DTEND;TZID=Europe/Berlin:20230810T200000
DTSTAMP:20260420T153123
CREATED:20230501T080550Z
LAST-MODIFIED:20230508T121355Z
UID:2148-1691690400-1691697600@xity.de
SUMMARY:Salsa Open Air am Kö-Bogen
DESCRIPTION:Düsseldorf – Von 18:00 – 19:00 Uhr geben die Dozenten des Tanzhauses NRW allen Interessierten eine kostenlose Einführung in die jeweilige Tanzrichtung. Ab 19:00 Uhr beginnt dann die offizielle Tanznacht.
URL:https://xity.de/event/salsa-open-air-am-koe-bogen-4/
LOCATION:Kö-Bogen\, Kö-Bogen Düsseldorf\, Düsseldorf\, NRW\, 40212\, Deutschland
CATEGORIES:Events
ATTACH;FMTTYPE=image/jpeg:https://xity.de/wp-content/uploads/2023/05/Salsa-am-Kö_Bogen.jpg
END:VEVENT
BEGIN:VEVENT
DTSTART;TZID=Europe/Berlin:20230813T090000
DTEND;TZID=Europe/Berlin:20230813T193000
DTSTAMP:20260420T153123
CREATED:20230807T104407Z
LAST-MODIFIED:20230807T104407Z
UID:9600-1691917200-1691955000@xity.de
SUMMARY:Radsport: Rund um die Kö
DESCRIPTION:Düsseldorf – Rund um die Kö\, Düsseldorfs traditionsreiches Radsport-Event\, feiert am 13. August 2023 auf der Königsallee seine 52. Ausgabe. Neu in diesem Jahr: ein Frauen-Elite-Rennen sowie Nachwuchsrennen für ambitionierte Schüler*innen aus Radsportvereinen. Ein breit angelegtes Begleitprogramm sorgt dafür\, dass der Renntag großer Sport und großer Spaß wird. Ein Sommerfest für Radsportfans\, aber auch für die ganze Familie. Der Eintritt ist frei. (Quelle: Cycling Club Düsseldorf e.V.
URL:https://xity.de/event/radsport-rund-um-die-koe/
LOCATION:Kö-Bogen\, Kö-Bogen Düsseldorf\, Düsseldorf\, NRW\, 40212\, Deutschland
CATEGORIES:Freizeit,Sport
ATTACH;FMTTYPE=image/jpeg:https://xity.de/wp-content/uploads/2023/08/Radrennen.jpg
END:VEVENT
BEGIN:VEVENT
DTSTART;VALUE=DATE:20230825
DTEND;VALUE=DATE:20230828
DTSTAMP:20260420T153123
CREATED:20230523T134404Z
LAST-MODIFIED:20230523T134404Z
UID:3963-1692921600-1693180799@xity.de
SUMMARY:Gourmet Festival Düsseldorf
DESCRIPTION:Düsseldorf – Mit einer ausgewählten Ausstellern verteilt auf 2\,3 Kilometer vom Graf-Adolf-Platz bis zum Hofgarten\, findet das beliebte Gourmet Festival Düsseldorf nunmehr zum 11. Mal statt. Düsseldorf kann sich wieder auf das einmalige Ambiente des Gourmet Festival auf der KÖ mit ihrem herrlichen Ensemble von Wasser\, Bäumen\, Kulturdenkmälern und edlen Geschäften. Flanieren\, Verweilen und Genießen mit Freunden freuen. \n\n\n\n\n\n\n\nDas hochwertige Angebot von Speisen und Getränken\, Feinkost und Genusswaren trifft seit jeher in Düsseldorf auf starkes Interesse und die Aussteller haben sich wieder einiges einfallen lassen\, um die Düsseldorfer von ihrem Angebot zu überzeugen.\nEin umfangreiches Programm von Verkostungen\, Gewinnspielen und Live-Cooking begleitet das Gourmet Festival Düsseldorf an allen drei Tagen.\nDer Eintritt ist frei.
URL:https://xity.de/event/gourmet-festival-duesseldorf/
LOCATION:Kö-Bogen\, Kö-Bogen Düsseldorf\, Düsseldorf\, NRW\, 40212\, Deutschland
ATTACH;FMTTYPE=image/jpeg:https://xity.de/wp-content/uploads/2023/05/Gourmet-Festival-Düsseldorf.jpg
END:VEVENT
END:VCALENDAR