BEGIN:VCALENDAR
VERSION:2.0
PRODID:-//xity.de - ECPv6.15.20//NONSGML v1.0//EN
CALSCALE:GREGORIAN
METHOD:PUBLISH
X-ORIGINAL-URL:https://xity.de
X-WR-CALDESC:Veranstaltungen für xity.de
REFRESH-INTERVAL;VALUE=DURATION:PT1H
X-Robots-Tag:noindex
X-PUBLISHED-TTL:PT1H
BEGIN:VTIMEZONE
TZID:Europe/Berlin
BEGIN:DAYLIGHT
TZOFFSETFROM:+0100
TZOFFSETTO:+0200
TZNAME:CEST
DTSTART:20220327T010000
END:DAYLIGHT
BEGIN:STANDARD
TZOFFSETFROM:+0200
TZOFFSETTO:+0100
TZNAME:CET
DTSTART:20221030T010000
END:STANDARD
BEGIN:DAYLIGHT
TZOFFSETFROM:+0100
TZOFFSETTO:+0200
TZNAME:CEST
DTSTART:20230326T010000
END:DAYLIGHT
BEGIN:STANDARD
TZOFFSETFROM:+0200
TZOFFSETTO:+0100
TZNAME:CET
DTSTART:20231029T010000
END:STANDARD
BEGIN:DAYLIGHT
TZOFFSETFROM:+0100
TZOFFSETTO:+0200
TZNAME:CEST
DTSTART:20240331T010000
END:DAYLIGHT
BEGIN:STANDARD
TZOFFSETFROM:+0200
TZOFFSETTO:+0100
TZNAME:CET
DTSTART:20241027T010000
END:STANDARD
END:VTIMEZONE
BEGIN:VEVENT
DTSTART;TZID=Europe/Berlin:20230710T180000
DTEND;TZID=Europe/Berlin:20230710T200000
DTSTAMP:20260420T170610
CREATED:20230501T082247Z
LAST-MODIFIED:20230508T121439Z
UID:2156-1689012000-1689019200@xity.de
SUMMARY:Tango Open Air am Kö-Bogen
DESCRIPTION:Düsseldorf – Von 18:00 – 19:00 Uhr geben die Dozenten des Tanzhauses NRW allen Interessierten eine kostenlose Einführung in die jeweilige Tanzrichtung. Ab 19:00 Uhr beginnt dann die offizielle Tanznacht.
URL:https://xity.de/event/tango-open-air-am-koe-bogen-3/
LOCATION:Kö-Bogen\, Kö-Bogen Düsseldorf\, Düsseldorf\, NRW\, 40212\, Deutschland
CATEGORIES:Events
ATTACH;FMTTYPE=image/jpeg:https://xity.de/wp-content/uploads/2023/05/Salsa-am-Kö_Bogen.jpg
END:VEVENT
BEGIN:VEVENT
DTSTART;VALUE=DATE:20230722
DTEND;VALUE=DATE:20230723
DTSTAMP:20260420T170610
CREATED:20230627T080325Z
LAST-MODIFIED:20230627T080325Z
UID:6678-1689984000-1690070399@xity.de
SUMMARY:Düsseldorf Fashion Day Festival Edition
DESCRIPTION:Düsseldorf – Die Düsseldorf Fashion Days (DFD) Festival Edition ist „Das“ jährlich Mode-Highlight der Stadt Düsseldorf und stellt einen besonderen Erlebnistag rund um die Königsallee dar. Modehäuser\, Boutiquen\, Conceptstores und individuelle Designerinnen und Designer laden herzlich zum Flanieren und (Mit-)Erleben von Modenschauen\, Shopevents oder Straßenaktionen ein. Genießen Sie die besondere Atmosphäre unseres Modestandorts Düsseldorf! (Quelle: Landeshauptstadt Düsseldorf/Wirtschaftsförderungsamt)
URL:https://xity.de/event/duesseldorf-fashion-day-festival-edition/
LOCATION:Kö-Bogen\, Kö-Bogen Düsseldorf\, Düsseldorf\, NRW\, 40212\, Deutschland
CATEGORIES:Events
ATTACH;FMTTYPE=image/jpeg:https://xity.de/wp-content/uploads/2023/06/Fashion.jpg
END:VEVENT
BEGIN:VEVENT
DTSTART;TZID=Europe/Berlin:20230727T180000
DTEND;TZID=Europe/Berlin:20230727T200000
DTSTAMP:20260420T170610
CREATED:20230501T080024Z
LAST-MODIFIED:20230718T115015Z
UID:2146-1690480800-1690488000@xity.de
SUMMARY:Salsa Open Air am Kö-Bogen
DESCRIPTION:Düsseldorf – Von 18:00 – 19:00 Uhr geben die Dozenten des Tanzhauses NRW allen Interessierten eine kostenlose Einführung in die jeweilige Tanzrichtung. Ab 19:00 Uhr beginnt dann die offizielle Tanznacht.
URL:https://xity.de/event/salsa-open-air-am-koe-bogen-3/
LOCATION:Kö-Bogen\, Kö-Bogen Düsseldorf\, Düsseldorf\, NRW\, 40212\, Deutschland
CATEGORIES:Events
ATTACH;FMTTYPE=image/jpeg:https://xity.de/wp-content/uploads/2023/05/Salsa-am-Kö_Bogen.jpg
END:VEVENT
END:VCALENDAR