BEGIN:VCALENDAR
VERSION:2.0
PRODID:-//xity.de - ECPv6.15.20//NONSGML v1.0//EN
CALSCALE:GREGORIAN
METHOD:PUBLISH
X-WR-CALNAME:xity.de
X-ORIGINAL-URL:https://xity.de
X-WR-CALDESC:Veranstaltungen für xity.de
REFRESH-INTERVAL;VALUE=DURATION:PT1H
X-Robots-Tag:noindex
X-PUBLISHED-TTL:PT1H
BEGIN:VTIMEZONE
TZID:Europe/Berlin
BEGIN:DAYLIGHT
TZOFFSETFROM:+0100
TZOFFSETTO:+0200
TZNAME:CEST
DTSTART:20220327T010000
END:DAYLIGHT
BEGIN:STANDARD
TZOFFSETFROM:+0200
TZOFFSETTO:+0100
TZNAME:CET
DTSTART:20221030T010000
END:STANDARD
BEGIN:DAYLIGHT
TZOFFSETFROM:+0100
TZOFFSETTO:+0200
TZNAME:CEST
DTSTART:20230326T010000
END:DAYLIGHT
BEGIN:STANDARD
TZOFFSETFROM:+0200
TZOFFSETTO:+0100
TZNAME:CET
DTSTART:20231029T010000
END:STANDARD
BEGIN:DAYLIGHT
TZOFFSETFROM:+0100
TZOFFSETTO:+0200
TZNAME:CEST
DTSTART:20240331T010000
END:DAYLIGHT
BEGIN:STANDARD
TZOFFSETFROM:+0200
TZOFFSETTO:+0100
TZNAME:CET
DTSTART:20241027T010000
END:STANDARD
END:VTIMEZONE
BEGIN:VEVENT
DTSTART;TZID=Europe/Berlin:20230515T180000
DTEND;TZID=Europe/Berlin:20230515T200000
DTSTAMP:20260420T200956
CREATED:20230501T081548Z
LAST-MODIFIED:20230508T121516Z
UID:2152-1684173600-1684180800@xity.de
SUMMARY:Tango Open-Air am Kö-Bogen
DESCRIPTION:Düsseldorf – Von 18:00 – 19:00 Uhr geben die Dozenten des Tanzhauses NRW allen Interessierten eine kostenlose Einführung in die jeweilige Tanzrichtung. Ab 19:00 Uhr beginnt dann die offizielle Tanznacht.
URL:https://xity.de/event/tango-open-air-am-koe-bogen/
LOCATION:Kö-Bogen\, Kö-Bogen Düsseldorf\, Düsseldorf\, NRW\, 40212\, Deutschland
ATTACH;FMTTYPE=image/jpeg:https://xity.de/wp-content/uploads/2023/05/Salsa-am-Kö_Bogen.jpg
END:VEVENT
END:VCALENDAR