BEGIN:VCALENDAR
VERSION:2.0
PRODID:-//xity.de - ECPv6.15.20//NONSGML v1.0//EN
CALSCALE:GREGORIAN
METHOD:PUBLISH
X-WR-CALNAME:xity.de
X-ORIGINAL-URL:https://xity.de
X-WR-CALDESC:Veranstaltungen für xity.de
REFRESH-INTERVAL;VALUE=DURATION:PT1H
X-Robots-Tag:noindex
X-PUBLISHED-TTL:PT1H
BEGIN:VTIMEZONE
TZID:Europe/Berlin
BEGIN:DAYLIGHT
TZOFFSETFROM:+0100
TZOFFSETTO:+0200
TZNAME:CEST
DTSTART:20220327T010000
END:DAYLIGHT
BEGIN:STANDARD
TZOFFSETFROM:+0200
TZOFFSETTO:+0100
TZNAME:CET
DTSTART:20221030T010000
END:STANDARD
BEGIN:DAYLIGHT
TZOFFSETFROM:+0100
TZOFFSETTO:+0200
TZNAME:CEST
DTSTART:20230326T010000
END:DAYLIGHT
BEGIN:STANDARD
TZOFFSETFROM:+0200
TZOFFSETTO:+0100
TZNAME:CET
DTSTART:20231029T010000
END:STANDARD
BEGIN:DAYLIGHT
TZOFFSETFROM:+0100
TZOFFSETTO:+0200
TZNAME:CEST
DTSTART:20240331T010000
END:DAYLIGHT
BEGIN:STANDARD
TZOFFSETFROM:+0200
TZOFFSETTO:+0100
TZNAME:CET
DTSTART:20241027T010000
END:STANDARD
END:VTIMEZONE
BEGIN:VEVENT
DTSTART;TZID=Europe/Berlin:20230922T200000
DTEND;TZID=Europe/Berlin:20230922T223000
DTSTAMP:20260419T221341
CREATED:20230919T082110Z
LAST-MODIFIED:20230919T082110Z
UID:12406-1695412800-1695421800@xity.de
SUMMARY:Sternzeichen: Grieg - Klavierkonzert
DESCRIPTION:Düsseldorf – Zwei Repertoire-Berühmtheiten\, aber es gibt einen krassen Bruch in diesem Programm. Seine Nähe zu Schumann schaffte Griegs Klavierkonzert früh Akzeptanz in der »Szene«\, die es aber um seinen norwegischen Volkston beneidet und das mit ihm transportierte Gefühl von Natur\, Frieden und Freiheit. Prokofjew schrieb dagegen wie viele seiner »sowjetischen« Kollegen eine musikalische Durchhalteparole für den Großen Vaterländischen Krieg. Dass die 5. Symphonie noch immer aktuell ist\, liegt nicht nur an den schrecklichen kriegerischen Ereignissen der Gegenwart: Es liegt an den Charakteren\, den Menschen\, denen der Komponist sich liebevoll zuwendet. \n\n\n\n\n\n\nDüsseldorfer Symphoniker\, Denis Kozhukin\, Klavier\, Ltg.: Aziz Shokhakimov\nEdvard Grieg: Klavierkonzert a-Moll op. 16 und Sergej Prokofjew: Symphonie Nr. 5 B-Dur op. 100
URL:https://xity.de/event/sternzeichen-grieg-klavierkonzert/
LOCATION:Tonhalle Düsseldorf\, Ehrenhof 1\, Düsseldorf\, NRW\, 40479\, Deutschland
CATEGORIES:Klassik,Konzert
ATTACH;FMTTYPE=image/jpeg:https://xity.de/wp-content/uploads/2023/09/Grieg.jpg
END:VEVENT
BEGIN:VEVENT
DTSTART;TZID=Europe/Berlin:20230924T130000
DTEND;TZID=Europe/Berlin:20230924T150000
DTSTAMP:20260419T221341
CREATED:20230919T124838Z
LAST-MODIFIED:20230919T124838Z
UID:12460-1695560400-1695567600@xity.de
SUMMARY:Sebastian Gahler meets Jakob Bänsch
DESCRIPTION:Düsseldorf – Im Rahmen des Düsseldorf Festivals bietet die Blue-Lounge-Jazz-Reihe im Theaterzelt immer wieder Bühne für feine Jazz-Konzerte. Die Stammgäste schätzen die Reihe als wunderbare Plattform für unterschiedlichste Ensembles. Anfang dieses Jahres lernte der Düsseldorfer Pianist und Komponist Sebastian Gahler den jungen Trompeter Jakob Bänsch kennen. Das inspirierte Zusammenspiel beider weckte sowohl bei den beiden Musikern als auch beim Publikum Lust auf mehr. Daher gibt es nun eine Neuauflage dieser Begegnung im Rahmen des Düsseldorf Festivals in der Theaterbar. Jakob Bänsch gehört zu den gefragtesten Talenten der deutschen Jazz-Szene. Ende April 2023 brachte er sein Debütalbum „Opening“ beim Label „Jazzline“ heraus. Die Süddeutsche Zeitung schreibt\, dass Bänsch „so kraftvoll souverän in der Nachfolge klassischer Meister seines Fachs steht\, dass man sich eine glanzvolle Karriere des Newcomers gut vorstellen kann“. \nDer Pianist Sebastian Gahler und der Trompeter Jakob Bänsch werden bei ihrem Konzert im Rahmen des Düsseldorf Festivals von Bassist Matthias Akeo Nowak und Schlagzeuger Leo Asal begleitet.
URL:https://xity.de/event/sebastian-gahler-meets-jakob-baensch/
LOCATION:Burgplatz Düsseldorf\, Burgplatz\, Düsseldorf\, NRW\, 40213\, Deutschland
CATEGORIES:Festival,Konzert
ATTACH;FMTTYPE=image/jpeg:https://xity.de/wp-content/uploads/2023/05/Gahlen.jpg
END:VEVENT
BEGIN:VEVENT
DTSTART;TZID=Europe/Berlin:20230927T193000
DTEND;TZID=Europe/Berlin:20230927T213000
DTSTAMP:20260419T221341
CREATED:20230919T150441Z
LAST-MODIFIED:20230919T150441Z
UID:12500-1695843000-1695850200@xity.de
SUMMARY:Jazz im Steinway-Haus: Sebastian Gahler meets Philipp Holstein - Murakami & Music
DESCRIPTION:Düsseldorf – Jazz trifft Literatur: Mit seinem aktuellem Quartett-Album „Two Moons“ entführt Sebastian Gahler in die surreale Welt des japanischen Schriftstellers und Jazzliebhabers Haruki Murakami. Gahler – an diesem Abend solo am Flügel – interpretiert Themen und Figuren aus Murakamis Romanen musikalisch. Kulturredakteur Philipp Holstein führt durch das Programm. Er weist auf Querverbindungen zwischen den Romanen hin und schwärmt vom besonderen Sound und den musikalischen Vorlieben des als Nobelreis-Kandidaten gehandelten Schriftstellers. (Quelle: S. Gahler) \n\n\n\n\n\n\n\nMit Philipp Holstein (Lesung)\, Sebastian Gahler (piano) \nReservierungen und Kartenvorverkauf: 0211- 49 39 370 und duesseldorf@steinway.de
URL:https://xity.de/event/jazz-im-steinway-haus-sebastian-gahler-meets-philipp-holstein-murakami-music/
LOCATION:Steinway-Haus\, Immermannstraße 14-16\, Düsseldorf\, NRW\, 40210\, Deutschland
CATEGORIES:Konzert
ATTACH;FMTTYPE=image/jpeg:https://xity.de/wp-content/uploads/2023/05/Gahlen.jpg
END:VEVENT
BEGIN:VEVENT
DTSTART;TZID=Europe/Berlin:20230928T200000
DTEND;TZID=Europe/Berlin:20230928T223000
DTSTAMP:20260419T221341
CREATED:20230920T134602Z
LAST-MODIFIED:20230926T091834Z
UID:12578-1695931200-1695940200@xity.de
SUMMARY:Brahms & Reger: Sharon Kam & Friends
DESCRIPTION:Düsseldorf – Max Reger flanierte – mal mehr\, mal weniger schwergewichtig – zwischen Vergangenheit und Zukunft. Dabei traf er natürlich auch Brahms. Das höchstklassig besetzte Quintett um den Pianisten und Reger-Enthusiasten Markus Becker umrahmt die Melancholie des spät-milden Hamburgers mit der genau kalkulierten Maßlosigkeit Regers\, den Becker einmal ein »Schatzkästlein für Psychologen« nannte. Ein Konzert zu Ehren Max Regers\, der vor 150 Jahren zur Welt kam. (Quelle: Tonhalle Düsseldorf)
URL:https://xity.de/event/brahms-reger-sharon-kam-friends/
LOCATION:Tonhalle Düsseldorf\, Ehrenhof 1\, Düsseldorf\, NRW\, 40479\, Deutschland
CATEGORIES:Klassik,Konzert
ATTACH;FMTTYPE=image/jpeg:https://xity.de/wp-content/uploads/2023/09/Klassik.jpg
END:VEVENT
END:VCALENDAR