BEGIN:VCALENDAR
VERSION:2.0
PRODID:-//xity.de - ECPv6.15.20//NONSGML v1.0//EN
CALSCALE:GREGORIAN
METHOD:PUBLISH
X-WR-CALNAME:xity.de
X-ORIGINAL-URL:https://xity.de
X-WR-CALDESC:Veranstaltungen für xity.de
REFRESH-INTERVAL;VALUE=DURATION:PT1H
X-Robots-Tag:noindex
X-PUBLISHED-TTL:PT1H
BEGIN:VTIMEZONE
TZID:Europe/Berlin
BEGIN:DAYLIGHT
TZOFFSETFROM:+0100
TZOFFSETTO:+0200
TZNAME:CEST
DTSTART:20220327T010000
END:DAYLIGHT
BEGIN:STANDARD
TZOFFSETFROM:+0200
TZOFFSETTO:+0100
TZNAME:CET
DTSTART:20221030T010000
END:STANDARD
BEGIN:DAYLIGHT
TZOFFSETFROM:+0100
TZOFFSETTO:+0200
TZNAME:CEST
DTSTART:20230326T010000
END:DAYLIGHT
BEGIN:STANDARD
TZOFFSETFROM:+0200
TZOFFSETTO:+0100
TZNAME:CET
DTSTART:20231029T010000
END:STANDARD
BEGIN:DAYLIGHT
TZOFFSETFROM:+0100
TZOFFSETTO:+0200
TZNAME:CEST
DTSTART:20240331T010000
END:DAYLIGHT
BEGIN:STANDARD
TZOFFSETFROM:+0200
TZOFFSETTO:+0100
TZNAME:CET
DTSTART:20241027T010000
END:STANDARD
END:VTIMEZONE
BEGIN:VEVENT
DTSTART;TZID=Europe/Berlin:20230728T200000
DTEND;TZID=Europe/Berlin:20230728T223000
DTSTAMP:20260420T014845
CREATED:20230726T121645Z
LAST-MODIFIED:20230726T121645Z
UID:8882-1690574400-1690583400@xity.de
SUMMARY:"Gute Nacht\, Harry! VIII - Ich will viel reisen und viel sehen"
DESCRIPTION:Düsseldorf – Hinaus in die Natur und den spießbürgerlichen Mief hinter sich lassen: Als Jurastudent in Göttingen unternimmt Heine in den Herbstferien 1824 eine mehrwöchige Wanderung durch den Harz. Die Niederschrift seiner Erlebnisse wird zu etwas wegweisend Neuem in der Literatur. Mühelos bewegt sich Heines Stil zwischen satirischem Witz\, zumeist gegen den akademischen Wissenschaftsbetrieb\, und ergreifenden Naturbeschreibungen. \n\n\n\n\n\n\n\nDas erfolgreiche Format »Gute Nacht\, Harry!« startet mit dem frischen Themenschwerpunkt Reisen in eine neue Phase. Nachwuchsschauspieler*innen treffen auf das Enfant terrible der deutschen Literatur. Aus der »Harzreise« rezitieren Paula Götz und Victor Maria Diderich von der Schauspielschule DER KELLER. In einen musikalischen Dialog mit der szenischen Lesung tritt ein Jazz-Ensemble der Robert Schumann Hochschule unter der Leitung von Paul von Chamier. (Quelle: Heinrich-Heine-Institut) \nModeration: Dr. Sabine Brenner-Wilczek \n\nInformation: \nEintritt: 12 EUR (ermäßigt 6 EUR)\nBitte melden Sie sich verbindlich unter anmeldungen-hhi@duesseldorf.de oder unter +49 211 – 8995571 an.\nEine Veranstaltung des Heinrich-Heine-Instituts. \n\nies
URL:https://xity.de/event/gute-nacht-harry-viii-ich-will-viel-reisen-und-viel-sehen/
LOCATION:Heinrich-Heine-Institut\, Bilker Straße 12-14\, Düsseldorf\, NRW\, 40213\, Deutschland
CATEGORIES:Konzert
ATTACH;FMTTYPE=image/jpeg:https://xity.de/wp-content/uploads/2023/07/Heine.jpg
END:VEVENT
END:VCALENDAR