BEGIN:VCALENDAR
VERSION:2.0
PRODID:-//xity.de - ECPv6.15.20//NONSGML v1.0//EN
CALSCALE:GREGORIAN
METHOD:PUBLISH
X-ORIGINAL-URL:https://xity.de
X-WR-CALDESC:Veranstaltungen für xity.de
REFRESH-INTERVAL;VALUE=DURATION:PT1H
X-Robots-Tag:noindex
X-PUBLISHED-TTL:PT1H
BEGIN:VTIMEZONE
TZID:Europe/Berlin
BEGIN:DAYLIGHT
TZOFFSETFROM:+0100
TZOFFSETTO:+0200
TZNAME:CEST
DTSTART:20220327T010000
END:DAYLIGHT
BEGIN:STANDARD
TZOFFSETFROM:+0200
TZOFFSETTO:+0100
TZNAME:CET
DTSTART:20221030T010000
END:STANDARD
BEGIN:DAYLIGHT
TZOFFSETFROM:+0100
TZOFFSETTO:+0200
TZNAME:CEST
DTSTART:20230326T010000
END:DAYLIGHT
BEGIN:STANDARD
TZOFFSETFROM:+0200
TZOFFSETTO:+0100
TZNAME:CET
DTSTART:20231029T010000
END:STANDARD
BEGIN:DAYLIGHT
TZOFFSETFROM:+0100
TZOFFSETTO:+0200
TZNAME:CEST
DTSTART:20240331T010000
END:DAYLIGHT
BEGIN:STANDARD
TZOFFSETFROM:+0200
TZOFFSETTO:+0100
TZNAME:CET
DTSTART:20241027T010000
END:STANDARD
END:VTIMEZONE
BEGIN:VEVENT
DTSTART;TZID=Europe/Berlin:20230909T193000
DTEND;TZID=Europe/Berlin:20230909T220000
DTSTAMP:20260419T185803
CREATED:20230908T083348Z
LAST-MODIFIED:20230908T083348Z
UID:11746-1694287800-1694296800@xity.de
SUMMARY:Im Prinzip - Mental
DESCRIPTION:Düsseldorf – Das Zaubertheater Düsseldorfer der Düsseldorfer Zauberwelten präsentiert Peter Schulz und Chris Williams in ihrer neuen Show. Gibt es Menschen mit übersinnlichen Fähigkeiten? Sind Hellsicht\, Gedankenlesen und Telepathie Fiktion oder Wirklichkeit? Diesen Fragen gehen Peter Schulz und Chris Williams in ihrer neuen Show nach. Während Peter total\, absolut und definitiv davon überzeugt ist\, dass es Menschen mit besonderen Fähigkeiten gibt – allen voran er selbst – glaubt er auch zu wissen\, dass es vielen der Zuschauer genau so geht. Chris sieht das eher\, nun ja\, skeptisch! Erleben Sie\, wer Recht behält – oder haben Sie schon eine übersinnliche Eingebung bekommen? Zum ersten Mal gemeinsam auf der Bühne präsentieren die beiden Künstler in einem kurzweiligen Dialog bissigen Humor\, effektvolle Kunststücke und übersinnliche Experimente\, die Sie so noch nie erlebt haben. (Quelle: Zaubertheater Düsseldorf)
URL:https://xity.de/event/im-prinzip-mental/
LOCATION:Zaubertheater Düsseldorf\, Volmerwerther Straße 86\, Düsseldorf\, NRW\, 40221\, Deutschland
CATEGORIES:Freizeit,Zauberei
ATTACH;FMTTYPE=image/jpeg:https://xity.de/wp-content/uploads/2023/09/Zauber.jpg
END:VEVENT
BEGIN:VEVENT
DTSTART;TZID=Europe/Berlin:20230915T193000
DTEND;TZID=Europe/Berlin:20230915T213000
DTSTAMP:20260419T185803
CREATED:20230908T131448Z
LAST-MODIFIED:20230908T131448Z
UID:11792-1694806200-1694813400@xity.de
SUMMARY:Hr. Wolter & Mr. Williams - Von Männern und Glücksbären
DESCRIPTION:Düsseldorf – Gemeinsam leben die beiden skurrilen Singles Hr. Wolter und Mr. Williams in einer Männer-WG und teilen\, neben der Wohnung und ihrem Faible für Kriminalfälle\, noch eine weitere Leidenschaft – sie sammeln Bilder von seltenen Teddybären… \n\n\n\nErlebe in der lustigen Zaubershow mit Tilo Wolter und Chris Williams spannende Experimente\, magische Effekte und zauberhafte Momente. (Quelle: Zaubertheater Düsseldorf) \nEmpfohlen ab 10 Jahre!
URL:https://xity.de/event/hr-wolter-mr-williams-von-maennern-und-gluecksbaeren/
LOCATION:Zaubertheater Düsseldorf\, Volmerwerther Straße 86\, Düsseldorf\, NRW\, 40221\, Deutschland
CATEGORIES:Zauberei
ATTACH;FMTTYPE=image/jpeg:https://xity.de/wp-content/uploads/2023/09/Zauberer.jpg
END:VEVENT
BEGIN:VEVENT
DTSTART;TZID=Europe/Berlin:20230921T193000
DTEND;TZID=Europe/Berlin:20230921T220000
DTSTAMP:20260419T185803
CREATED:20230824T114343Z
LAST-MODIFIED:20230824T114343Z
UID:10769-1695324600-1695333600@xity.de
SUMMARY:Sven Heubes: Séance
DESCRIPTION:Düsseldorf – Inspiriert vom großen gesellschaftlichen Interesse am Spiritismus um die Jahrhundertwende präsentiert Mentalist „Sven F. Heubes“ eine magische Soirée um die unerklärlichen Phänomene dieser Welt. Authentische Experimente\, eine fesselnde Geschichte um magisches Denken und bizarre Ereignisse der viktorianischen Ära lassen an diesem Abend die Grenzen zwischen Okkultismus\, Spiritismus\, Scharlatanerie\, Schauspiel und Täuschungskunst verschwimmen. Spannend\, emotional\, mitreißend\, unerklärlich… surreal. (Quelle: Zaubertheater Düsseldorf) \n\n\n\n\n\n\n\nAchtung: Empfohlen ab 16 Jahren!
URL:https://xity.de/event/sven-heubes-seance/
LOCATION:Zaubertheater Düsseldorf\, Volmerwerther Straße 86\, Düsseldorf\, NRW\, 40221\, Deutschland
CATEGORIES:Freizeit,Zauberei
ATTACH;FMTTYPE=image/jpeg:https://xity.de/wp-content/uploads/2023/08/Illusion.jpg
END:VEVENT
END:VCALENDAR