BEGIN:VCALENDAR
VERSION:2.0
PRODID:-//xity.de - ECPv6.15.20//NONSGML v1.0//EN
CALSCALE:GREGORIAN
METHOD:PUBLISH
X-ORIGINAL-URL:https://xity.de
X-WR-CALDESC:Veranstaltungen für xity.de
REFRESH-INTERVAL;VALUE=DURATION:PT1H
X-Robots-Tag:noindex
X-PUBLISHED-TTL:PT1H
BEGIN:VTIMEZONE
TZID:Europe/Berlin
BEGIN:DAYLIGHT
TZOFFSETFROM:+0100
TZOFFSETTO:+0200
TZNAME:CEST
DTSTART:20220327T010000
END:DAYLIGHT
BEGIN:STANDARD
TZOFFSETFROM:+0200
TZOFFSETTO:+0100
TZNAME:CET
DTSTART:20221030T010000
END:STANDARD
BEGIN:DAYLIGHT
TZOFFSETFROM:+0100
TZOFFSETTO:+0200
TZNAME:CEST
DTSTART:20230326T010000
END:DAYLIGHT
BEGIN:STANDARD
TZOFFSETFROM:+0200
TZOFFSETTO:+0100
TZNAME:CET
DTSTART:20231029T010000
END:STANDARD
BEGIN:DAYLIGHT
TZOFFSETFROM:+0100
TZOFFSETTO:+0200
TZNAME:CEST
DTSTART:20240331T010000
END:DAYLIGHT
BEGIN:STANDARD
TZOFFSETFROM:+0200
TZOFFSETTO:+0100
TZNAME:CET
DTSTART:20241027T010000
END:STANDARD
END:VTIMEZONE
BEGIN:VEVENT
DTSTART;TZID=Europe/Berlin:20231205T200000
DTEND;TZID=Europe/Berlin:20231205T223000
DTSTAMP:20260420T002933
CREATED:20230705T100148Z
LAST-MODIFIED:20230926T103011Z
UID:7507-1701806400-1701815400@xity.de
SUMMARY:Gregory Porter
DESCRIPTION:Düsseldorf – Gregory Porter ist eine der unverzichtbaren Größen des zeitgenössischen Jazz. Seine umwerfende Stimme\, die genauso im Soul\, Blues und Gospel zuhause ist\, macht jeden Song\, egal ob Eigen- oder Fremdkomposition\, umgehend zu einem Porter Song. Auch als Songwriter gelingt es ihm mühelos\, all diese Genres zu seinem eigenen\, unverkennbaren ›Gregory Porter Sound‹ zusammenzuführen. Seine tiefgründigen Texte sind bewußt universell und schließen niemanden aus – und sprechen damit nahezu allen aus der Seele. \n\n\n\n\n\n\n\nDer Welterfolg des zweifachen Grammy Preisträgers aus dem kalifornischen Bakersfield ist also alles andere als verwunderlich: Seine Alben „Liquid Spirit“\, und der Nachfolger „Take Me To The Alley“ wurden mit Edelmetall-Auszeichnungen geradezu überhäuft. Nach „Nat King Cole & Me“\, seinem nicht minder erfolgreichen\, wunderbaren Tribut an die Musik Nat King Coles\, veröffentlichte Gregory Porter 2020 sein Studioalbum „All Rise“ und bereits 2021 ließ er mit der „Still Rising“ Collection ein außergewöhnliches Lebenszeichen folgen: Eine Doppel-CD mit 34 Stücken\, darunter neue Titel und Arrangements sowie bereits veröffentlichte Favoriten\, Cover-Versionen und Duette. 2022 war Gregory Porter auf der Single „Capacity to Love“ von Ibrahim Maalouf zu hören. \nPorters Kompositionen klingen intensiv\, intim und nachdrücklich in ihrem Appell an das\, was die Menschen im Kern ausmacht: Liebe in all ihrer Komplexität und der unerschütterliche Glaube an sich selbst. In seiner Musik treffen schwere und wichtige Themen wie Rassismus auf die Wärme seines Samt-Baritons\, und machen ihn neben allem Wohlklang zur wichtigen Stimme unserer Zeit. Addiert nun noch Gregory Porters Bühnenpräsenz und seine großartige Band\, ist klar\, dass seine Live-Konzerte absolut unvergessliche Erlebnisse werden. Im Dezember 2023 kehrt der Mann mit der Ballonmütze für fünf Termine zurück nach Deutschland! Die Karsten Jahnke Konzertdirektion veranstaltet die Tournee in Kooperation mit Electric Chair. (Quelle: Mitsubishi Electric Halle)
URL:https://xity.de/event/gregory-porter/
LOCATION:Mitsubishi Electric HALLE\, Siegburgerstraße 15\, Düsseldorf\, NRW\, 40591\, Deutschland
CATEGORIES:Konzert
ATTACH;FMTTYPE=image/jpeg:https://xity.de/wp-content/uploads/2023/07/Porter.jpg
END:VEVENT
END:VCALENDAR