BEGIN:VCALENDAR
VERSION:2.0
PRODID:-//xity.de - ECPv6.15.20//NONSGML v1.0//EN
CALSCALE:GREGORIAN
METHOD:PUBLISH
X-WR-CALNAME:xity.de
X-ORIGINAL-URL:https://xity.de
X-WR-CALDESC:Veranstaltungen für xity.de
REFRESH-INTERVAL;VALUE=DURATION:PT1H
X-Robots-Tag:noindex
X-PUBLISHED-TTL:PT1H
BEGIN:VTIMEZONE
TZID:Europe/Berlin
BEGIN:DAYLIGHT
TZOFFSETFROM:+0100
TZOFFSETTO:+0200
TZNAME:CEST
DTSTART:20230326T010000
END:DAYLIGHT
BEGIN:STANDARD
TZOFFSETFROM:+0200
TZOFFSETTO:+0100
TZNAME:CET
DTSTART:20231029T010000
END:STANDARD
BEGIN:DAYLIGHT
TZOFFSETFROM:+0100
TZOFFSETTO:+0200
TZNAME:CEST
DTSTART:20240331T010000
END:DAYLIGHT
BEGIN:STANDARD
TZOFFSETFROM:+0200
TZOFFSETTO:+0100
TZNAME:CET
DTSTART:20241027T010000
END:STANDARD
BEGIN:DAYLIGHT
TZOFFSETFROM:+0100
TZOFFSETTO:+0200
TZNAME:CEST
DTSTART:20250330T010000
END:DAYLIGHT
BEGIN:STANDARD
TZOFFSETFROM:+0200
TZOFFSETTO:+0100
TZNAME:CET
DTSTART:20251026T010000
END:STANDARD
END:VTIMEZONE
BEGIN:VEVENT
DTSTART;TZID=Europe/Berlin:20240716T110000
DTEND;TZID=Europe/Berlin:20240716T123000
DTSTAMP:20260420T041042
CREATED:20240715T093751Z
LAST-MODIFIED:20240715T093751Z
UID:85677-1721127600-1721133000@xity.de
SUMMARY:Führung für Senior:innen durch das Ruhr Museum
DESCRIPTION:Am Dienstag\, 16. Juli 2024\, startet um 11:00 Uhr die erste Führung für Senior:innen durch die neue Sonderausstellung des Ruhr Museums „Glückauf – Film ab!“. Die Gesamtschau gewährt erstmals einen Überblick über die einmalige Filmlandschaft der einst von Kohle und Stahl geprägten Region. Sie zeigt 100 Jahre bewegendes Ruhrgebietskino mit legendären Spiel- und Dokumentarfilmen und lädt mit beeindrucken Objekten – wie Plakaten\, Autogrammkarten\, Drehbücher und Requisiten\, Filmausschnitten sowie unterschiedliche Filmprojektoren – zu einer historischen Entdeckungsreise durch die gesamte Kino- und Filmgeschichte des Reviers ein. Mit viel Zeit\, Ruhe und bei Bedarf im Sitzen\, können sich die Gäste gemeinsam an ihr schönstes Kinoerlebnis erinnern und austauschen. \nDauer: 1\,5 Stunden. \nKosten: 5 € zzgl. Eintritt. \nTreffpunkt: Counter auf der 24-Meter-Ebene des Ruhr Museums\, UNESCO-Welterbe Zollverein\, Gelsenkirchener Straße 181\, 45309 Essen. \nAnmeldung und Informationen: besucherdienst@ruhrmuseum.de oder montags bis freitags zwischen 9 und 16 Uhr unter 0201.24681 444.
URL:https://xity.de/event/fuehrung-fuer-seniorinnen-durch-das-ruhr-museum/
LOCATION:Ruhr Museum Essen\, Gelsenkirchener Straße 181\, Essen\, 45309\, Deutschland
CATEGORIES:Führung
ATTACH;FMTTYPE=image/jpeg:https://xity.de/wp-content/uploads/2024/07/RS7185_143-Kino-scr.jpg
END:VEVENT
BEGIN:VEVENT
DTSTART;TZID=Europe/Berlin:20240721T150000
DTEND;TZID=Europe/Berlin:20240721T150000
DTSTAMP:20260420T041042
CREATED:20240715T135455Z
LAST-MODIFIED:20240715T135455Z
UID:85877-1721574000-1721574000@xity.de
SUMMARY:Öffentliche Führung durch die Alte Synagoge Essen
DESCRIPTION:Die Alte Synagoge Essen lädt am Sonntag\, 21. Juli 2024\, um 15:00 Uhr\, Interessierte zu einer öffentlichen Führung durch ihre Dauerausstellung ein. Auf dem Weg durch die Ausstellung lernen die Besucher*innen die fünf verschiedenen Themenbereiche kennen: Neben den “Quellen jüdischer Tradition” erfahren sie allerhand Wissenswertes über “Jüdische Feste” und den “Jüdischen ‘Way of Life’”. Darüber hinaus erhalten sie Einblicke in die “Geschichte des Hauses” und die “Geschichte der jüdischen Gemeinde Essen”. \nDer Eintritt beträgt 3 Euro\, ermäßigt 2 Euro. Eine Anmeldung für die Teilnahme am Rundgang ist nicht nötig. Unabhängig von der öffentlichen Führung können Interessierte die Dauerausstellung dienstags bis sonntags von 10:00 bis 18:00 Uhr kostenlos erkunden.
URL:https://xity.de/event/oeffentliche-fuehrung-durch-die-alte-synagoge-essen/
LOCATION:Alte Synagoge Essen\, Edmund-Körner-Platz 1\, Essen\, 45127\, Deutschland
CATEGORIES:Führung
ATTACH;FMTTYPE=image/jpeg:https://xity.de/wp-content/uploads/2023/08/2022-08-12_8091_Alte_Synagoge_speziell_0900_0700_sv.jpg
END:VEVENT
END:VCALENDAR