BEGIN:VCALENDAR
VERSION:2.0
PRODID:-//xity.de - ECPv6.15.20//NONSGML v1.0//EN
CALSCALE:GREGORIAN
METHOD:PUBLISH
X-ORIGINAL-URL:https://xity.de
X-WR-CALDESC:Veranstaltungen für xity.de
REFRESH-INTERVAL;VALUE=DURATION:PT1H
X-Robots-Tag:noindex
X-PUBLISHED-TTL:PT1H
BEGIN:VTIMEZONE
TZID:Europe/Berlin
BEGIN:DAYLIGHT
TZOFFSETFROM:+0100
TZOFFSETTO:+0200
TZNAME:CEST
DTSTART:20220327T010000
END:DAYLIGHT
BEGIN:STANDARD
TZOFFSETFROM:+0200
TZOFFSETTO:+0100
TZNAME:CET
DTSTART:20221030T010000
END:STANDARD
BEGIN:DAYLIGHT
TZOFFSETFROM:+0100
TZOFFSETTO:+0200
TZNAME:CEST
DTSTART:20230326T010000
END:DAYLIGHT
BEGIN:STANDARD
TZOFFSETFROM:+0200
TZOFFSETTO:+0100
TZNAME:CET
DTSTART:20231029T010000
END:STANDARD
BEGIN:DAYLIGHT
TZOFFSETFROM:+0100
TZOFFSETTO:+0200
TZNAME:CEST
DTSTART:20240331T010000
END:DAYLIGHT
BEGIN:STANDARD
TZOFFSETFROM:+0200
TZOFFSETTO:+0100
TZNAME:CET
DTSTART:20241027T010000
END:STANDARD
END:VTIMEZONE
BEGIN:VEVENT
DTSTART;TZID=Europe/Berlin:20230809T180000
DTEND;TZID=Europe/Berlin:20230809T200000
DTSTAMP:20260420T002935
CREATED:20230807T092556Z
LAST-MODIFIED:20230807T092556Z
UID:9564-1691604000-1691611200@xity.de
SUMMARY:Frauenforum
DESCRIPTION:Düsseldorf – Ein feministisches Forum für Austausch und Vernetzung für alle\, die sich als Frauen verstehen. Das Frauenforum besteht seit Juli 1985 aus gesellschafspolitisch feministisch interessierten Frauen. Es handelt sich dabei um einen Zusammenschluss von Einzelpersonen sowie von Frauen aus Institutionen\, Verbänden\, Initiativen\, Parteien\, Stadtverwaltung und aktivistischen Kreisen aus Düsseldorf und Umgebung. Damit bündeln wir Kräfte und Ressourcen\, Wissen und Fachlichkeit. Wir sind divers zusammensetzt und tragen aufgrund unserer Lebensbiographien und Erfahrungswerte aus unterschiedlichen Generationen verschiedene Perspektiven auf Themen der Gleichstellung zusammen und stellen fest: \n\n\n\n\n\n\n\nDas Private ist immer noch Politisch! \nWir wollen feministische Kämpfe vorantreiben und Menschen für feministische Themen sensibilisieren. Wir setzen einen Fokus auf aktuelle Diskurse und Themen\, diese werden bearbeitet mithilfe von (externen) Expert*innen.\nSo sind wir nicht nur ein Ort des gemeinsamen Lernens\, sondern auch ein Ort der Vernetzung in dem wir gemeinsam Stellung beziehen und nachhaltig für Düsseldorferinnen wirken wollen. (Quelle: kom!ma Düsseldorf) \nNähere Infos unter: komma@komma-duesseldorf.de
URL:https://xity.de/event/frauenforum/
LOCATION:Rathaus Düsseldorf\, Marktplatz am Rathaus\, Düsseldorf\, NRW\, 40213
CATEGORIES:Vortrag
ATTACH;FMTTYPE=image/jpeg:https://xity.de/wp-content/uploads/2023/08/Rathaus.jpg
END:VEVENT
END:VCALENDAR