BEGIN:VCALENDAR
VERSION:2.0
PRODID:-//xity.de - ECPv6.15.20//NONSGML v1.0//EN
CALSCALE:GREGORIAN
METHOD:PUBLISH
X-ORIGINAL-URL:https://xity.de
X-WR-CALDESC:Veranstaltungen für xity.de
REFRESH-INTERVAL;VALUE=DURATION:PT1H
X-Robots-Tag:noindex
X-PUBLISHED-TTL:PT1H
BEGIN:VTIMEZONE
TZID:Europe/Berlin
BEGIN:DAYLIGHT
TZOFFSETFROM:+0100
TZOFFSETTO:+0200
TZNAME:CEST
DTSTART:20240331T010000
END:DAYLIGHT
BEGIN:STANDARD
TZOFFSETFROM:+0200
TZOFFSETTO:+0100
TZNAME:CET
DTSTART:20241027T010000
END:STANDARD
BEGIN:DAYLIGHT
TZOFFSETFROM:+0100
TZOFFSETTO:+0200
TZNAME:CEST
DTSTART:20250330T010000
END:DAYLIGHT
BEGIN:STANDARD
TZOFFSETFROM:+0200
TZOFFSETTO:+0100
TZNAME:CET
DTSTART:20251026T010000
END:STANDARD
BEGIN:DAYLIGHT
TZOFFSETFROM:+0100
TZOFFSETTO:+0200
TZNAME:CEST
DTSTART:20260329T010000
END:DAYLIGHT
BEGIN:STANDARD
TZOFFSETFROM:+0200
TZOFFSETTO:+0100
TZNAME:CET
DTSTART:20261025T010000
END:STANDARD
END:VTIMEZONE
BEGIN:VEVENT
DTSTART;TZID=Europe/Berlin:20250208T193000
DTEND;TZID=Europe/Berlin:20250208T193000
DTSTAMP:20260421T075731
CREATED:20250127T100207Z
LAST-MODIFIED:20250127T100207Z
UID:138540-1739043000-1739043000@xity.de
SUMMARY:Folkwang Gitarrenfestival im Maxhaus Düsseldorf 
DESCRIPTION:Am Samstag\, 8. Februar 2025\, kehrt das Internationale Folkwang Gitarrenfestival nach dem Erfolg des Vorjahres ins Maxhaus zurück. Es präsentiert die Gewinner des NRW Gitarrenpreises 2024. Die Preisträger Eugen Treichel\, Rostyslav Holubov und Seonghyeon Cho zeigen mit einem abwechslungsreichen Programm von Klassik und Romantik bis zur Moderne ihre Virtuosität sowie die Ausdruckskraft und Vielseitigkeit der klassischen Gitarre. \nDas Programm umfasst Werke von Enrique Granados\, Agustín Barrios\, Fernando Sor\, Vicente Asencio\, Isaac Albéniz\, Giulio Regondi und Roberto Gerhard. \nDer NRW Gitarrenpreis würdigt herausragende junge Gitarrentalente\, die an einer Musikhochschule in Nordrhein-Westfalen studieren. Das Maxhaus organisiert die Veranstaltung in Zusammenarbeit mit dem Polnischen Institut Düsseldorf und dem Internationalen Folkwang Gitarrenfestival. \nDas Konzert beginnt um 19.30 Uhr\, der Eintritt kostet 15 Euro (erm. 10 Euro). Informationen und Reservierungen im Foyer des Maxhauses\, per E-Mail an eintrittskarten@maxhaus.de oder telefonisch unter 0211-90 10 252. \nTickets sind im Vorverkauf und an der Abendkasse erhältlich.
URL:https://xity.de/event/folkwang-gitarrenfestival-im-maxhaus-duesseldorf/
LOCATION:Maxhaus\, Schulstraße 11\, Düsseldorf\, NRW\, 40213\, Deutschland
CATEGORIES:Konzert
ATTACH;FMTTYPE=image/jpeg:https://xity.de/wp-content/uploads/2023/05/maxhaus2.jpg
END:VEVENT
END:VCALENDAR