BEGIN:VCALENDAR
VERSION:2.0
PRODID:-//xity.de - ECPv6.15.20//NONSGML v1.0//EN
CALSCALE:GREGORIAN
METHOD:PUBLISH
X-ORIGINAL-URL:https://xity.de
X-WR-CALDESC:Veranstaltungen für xity.de
REFRESH-INTERVAL;VALUE=DURATION:PT1H
X-Robots-Tag:noindex
X-PUBLISHED-TTL:PT1H
BEGIN:VTIMEZONE
TZID:Europe/Berlin
BEGIN:DAYLIGHT
TZOFFSETFROM:+0100
TZOFFSETTO:+0200
TZNAME:CEST
DTSTART:20220327T010000
END:DAYLIGHT
BEGIN:STANDARD
TZOFFSETFROM:+0200
TZOFFSETTO:+0100
TZNAME:CET
DTSTART:20221030T010000
END:STANDARD
BEGIN:DAYLIGHT
TZOFFSETFROM:+0100
TZOFFSETTO:+0200
TZNAME:CEST
DTSTART:20230326T010000
END:DAYLIGHT
BEGIN:STANDARD
TZOFFSETFROM:+0200
TZOFFSETTO:+0100
TZNAME:CET
DTSTART:20231029T010000
END:STANDARD
BEGIN:DAYLIGHT
TZOFFSETFROM:+0100
TZOFFSETTO:+0200
TZNAME:CEST
DTSTART:20240331T010000
END:DAYLIGHT
BEGIN:STANDARD
TZOFFSETFROM:+0200
TZOFFSETTO:+0100
TZNAME:CET
DTSTART:20241027T010000
END:STANDARD
END:VTIMEZONE
BEGIN:VEVENT
DTSTART;TZID=Europe/Berlin:20230603T140000
DTEND;TZID=Europe/Berlin:20230603T200000
DTSTAMP:20260420T101244
CREATED:20230530T103112Z
LAST-MODIFIED:20230530T103112Z
UID:4540-1685800800-1685822400@xity.de
SUMMARY:NordLichter - Sommerfest Nordstraße
DESCRIPTION:Düsseldorf – Räum´ die Straße frei\, wir brauchen Platz zum Feiern! Am 3. Juni gibt es eine Premiere: eine verkehrsfreie Nordstraße! Am Welttag des Fahrrads haben wir den gesamten Auto- und Bahn-Verkehr von der Straße verbannt. Zwischen 14:00 und 20:00 Uhr gehört die ganze Fläche nur den Menschen. Schöner kann ein Sommertag doch gar nicht sein! \n\n\n\n\n\n\n\nDie Werbegemeinschaft nördliche Innenstadt e.V. organisiert das erste Mal ein Sommerfest im Viertel – als echtes Fest auf der Straße. Als Special zum Tag des Fahrrads zeigt Me & my bicycle (Nordstr. 80) alles zum Thema Sicherheit für Fahrer:in und Rad. \nEs gib Live Musik\, jede Menge Leckereien und Drinks auf der Straße. In den Geschäften locken verlängerte Öffnungszeiten bis ca. 20 Uhr\, besondere Aktionen und Popups. Von der Duisburger Straße bis zur Mauerstraße lässt es sich ausgiebig genießen\, shoppen oder einfach in der Sonne sitzen. (Quelle: die Nord)
URL:https://xity.de/event/nordlichter-sommerfest-nordstrasse/
LOCATION:NRW
CATEGORIES:Events
ATTACH;FMTTYPE=image/jpeg:https://xity.de/wp-content/uploads/2023/05/Nordstrasse.jpg
END:VEVENT
BEGIN:VEVENT
DTSTART;TZID=Europe/Berlin:20230617T140000
DTEND;TZID=Europe/Berlin:20230617T190000
DTSTAMP:20260420T101244
CREATED:20230531T141649Z
LAST-MODIFIED:20230531T141649Z
UID:4806-1687010400-1687028400@xity.de
SUMMARY:Ukraine-Fest der Begegnung
DESCRIPTION:Düsseldorf – Theaterszenen\, Live-Musik\, Tanz\, Sport-Action-Bus\, Kaffee und Kuchen für die ganze Familie! \n\n\n\n\n\n\nAm Samstag\, 17. Juni veranstalten wir gemeinsam mit dem Verein Ridne Slowo und vielen Partner:innen und Initiativen zum zweiten Mal ein ukrainisches Fest auf dem Platz vor dem Düsseldorfer Schauspielhaus. Um 14 Uhr geht es los mit einer Begrüßung durch Oberbürgermeister Dr. Stephan Keller und die ukrainische Generalkonsulin Iryna Shum. Das Gelände des D’haus-Open-Air wird zur Bühne für ein buntes künstlerisches Programm mit Theaterszenen\, Musik und Choreografien. Bei Kaffee und Kuchen laden wir ein zu Begegnung und Austausch. Und für die Kinder gibt es zweisprachige Geschichten im Bilderbuch-Kino\, ein sportliches Angebot des Sport-Action-Busses und viele Möglichkeiten zu basteln und zu spielen. Mit der Tanzgruppe Rosynka aus Charkiw\, Kindern der ukrainischen Sonntagsschule Ridne Slowo sowie Auszügen aus der D’haus-Inszenierung »Odyssee« und einem musikalischen Programm der ukrainischen Singer-Songwriterin Laura Marti. Kommt vorbei! (Quelle: Schauspielhaus)
URL:https://xity.de/event/ukraine-fest-der-begegnung/
LOCATION:Düsseldorfer Schauspielhaus\, Gustav-Gründgens-Platz 1\, Düsseldorf\, NRW\, 40211\, Deutschland
CATEGORIES:Events
ATTACH;FMTTYPE=image/jpeg:https://xity.de/wp-content/uploads/2023/05/Schauspiel.jpg
END:VEVENT
END:VCALENDAR