BEGIN:VCALENDAR
VERSION:2.0
PRODID:-//xity.de - ECPv6.15.20//NONSGML v1.0//EN
CALSCALE:GREGORIAN
METHOD:PUBLISH
X-ORIGINAL-URL:https://xity.de
X-WR-CALDESC:Veranstaltungen für xity.de
REFRESH-INTERVAL;VALUE=DURATION:PT1H
X-Robots-Tag:noindex
X-PUBLISHED-TTL:PT1H
BEGIN:VTIMEZONE
TZID:Europe/Berlin
BEGIN:DAYLIGHT
TZOFFSETFROM:+0100
TZOFFSETTO:+0200
TZNAME:CEST
DTSTART:20220327T010000
END:DAYLIGHT
BEGIN:STANDARD
TZOFFSETFROM:+0200
TZOFFSETTO:+0100
TZNAME:CET
DTSTART:20221030T010000
END:STANDARD
BEGIN:DAYLIGHT
TZOFFSETFROM:+0100
TZOFFSETTO:+0200
TZNAME:CEST
DTSTART:20230326T010000
END:DAYLIGHT
BEGIN:STANDARD
TZOFFSETFROM:+0200
TZOFFSETTO:+0100
TZNAME:CET
DTSTART:20231029T010000
END:STANDARD
BEGIN:DAYLIGHT
TZOFFSETFROM:+0100
TZOFFSETTO:+0200
TZNAME:CEST
DTSTART:20240331T010000
END:DAYLIGHT
BEGIN:STANDARD
TZOFFSETFROM:+0200
TZOFFSETTO:+0100
TZNAME:CET
DTSTART:20241027T010000
END:STANDARD
END:VTIMEZONE
BEGIN:VEVENT
DTSTART;TZID=Europe/Berlin:20231212T200000
DTEND;TZID=Europe/Berlin:20231212T220000
DTSTAMP:20260419T210251
CREATED:20230829T102252Z
LAST-MODIFIED:20230926T103323Z
UID:11041-1702411200-1702418400@xity.de
SUMMARY:Gewandhausorchester & Thomanerchor Leipzig
DESCRIPTION:Düsseldorf – Das Gewandhausorchester und der Thomanerchor Leipzig überzeugen in der Umsetzung von Bachs Werken mit einer Brillanz\, die ihresgleichen sucht. Kein Wunder\, war der barocke Komponist im 18. Jahrhundert doch selbst Kantor des einzigartigen Leipziger Chores. Unter seiner Leitung wurde das Weihnachtsoratorium durch den Thomanerchor uraufgeführt und lässt seitdem weltweit beim Publikum den weihnachtlichen Funken überspringen. Auch das Gewandhausorchester kann auf eine traditionsreiche Geschichte zurückblicken. Als das älteste bürgerliche Sinfonieorchester der Welt begeistert es die Zuhörerschaft auf zahlreichen Tourneen – und seit dem 19. Jahrhundert auch als feste Begleitung des Thomanerchors. Lassen Sie sich von den weihnachtlichen Klängen und der funkensprühenden Stimmung bezaubern und feiern Sie mit uns die Jahrhunderte überdauernde Geschichte des Weihnachtsoratoriums. (Quelle: KTK Heinersdorff) \n\n\n\n\n\n\n\nJohann Sebastian Bach: Weihnachtsoratorium BWV 248 \nGewandhausorchester\, Thomanerchor Leipzig\, Solisten\, Ltg.: Andreas Reize
URL:https://xity.de/event/gewandhausorchester-thomanerchor-leipzig/
LOCATION:Tonhalle Düsseldorf\, Ehrenhof 1\, Düsseldorf\, NRW\, 40479\, Deutschland
CATEGORIES:Klassik,Konzert
ATTACH;FMTTYPE=image/jpeg:https://xity.de/wp-content/uploads/2023/08/Chot.jpg
END:VEVENT
END:VCALENDAR