BEGIN:VCALENDAR
VERSION:2.0
PRODID:-//xity.de - ECPv6.15.20//NONSGML v1.0//EN
CALSCALE:GREGORIAN
METHOD:PUBLISH
X-WR-CALNAME:xity.de
X-ORIGINAL-URL:https://xity.de
X-WR-CALDESC:Veranstaltungen für xity.de
REFRESH-INTERVAL;VALUE=DURATION:PT1H
X-Robots-Tag:noindex
X-PUBLISHED-TTL:PT1H
BEGIN:VTIMEZONE
TZID:Europe/Berlin
BEGIN:DAYLIGHT
TZOFFSETFROM:+0100
TZOFFSETTO:+0200
TZNAME:CEST
DTSTART:20220327T010000
END:DAYLIGHT
BEGIN:STANDARD
TZOFFSETFROM:+0200
TZOFFSETTO:+0100
TZNAME:CET
DTSTART:20221030T010000
END:STANDARD
BEGIN:DAYLIGHT
TZOFFSETFROM:+0100
TZOFFSETTO:+0200
TZNAME:CEST
DTSTART:20230326T010000
END:DAYLIGHT
BEGIN:STANDARD
TZOFFSETFROM:+0200
TZOFFSETTO:+0100
TZNAME:CET
DTSTART:20231029T010000
END:STANDARD
BEGIN:DAYLIGHT
TZOFFSETFROM:+0100
TZOFFSETTO:+0200
TZNAME:CEST
DTSTART:20240331T010000
END:DAYLIGHT
BEGIN:STANDARD
TZOFFSETFROM:+0200
TZOFFSETTO:+0100
TZNAME:CET
DTSTART:20241027T010000
END:STANDARD
END:VTIMEZONE
BEGIN:VEVENT
DTSTART;TZID=Europe/Berlin:20230603T190000
DTEND;TZID=Europe/Berlin:20230603T220000
DTSTAMP:20260420T072003
CREATED:20230530T121111Z
LAST-MODIFIED:20230530T121111Z
UID:4583-1685818800-1685829600@xity.de
SUMMARY:apollo-chor salve musica e.V.
DESCRIPTION:Düsseldorf – Ein kleiner und spannungsreicher musikalischer Wettbewerb zweier jugendlicher Komponisten – Mozart und Rossini – mit einem Te Deum und einer Messe\, natürlich mit Solisten\, Chor und Orchester. Auf dem Programm steht auch eine Haydn-Sinfonie. G. Rossini: Missa di Rimini für Soli\, Chor und Orchester\, W. A. Mozart: Te Deum laudamus und J. Haydn: Symphonie in C für Orchester\nMit dem apollo-chor salve musica e.V. und Orchester\, Projektchor des Luisen-Gymnasiums Düsseldorf \n\n\n\n\n\n\n\nSolisten: Clementine Jesdinski\, Sopran\, Natalie Mol\, Mezzo\, Leonhard Reso\, Tenor\, Joel Urch\, Bass\nLtg.: Christiane Sauer
URL:https://xity.de/event/apollo-chor-salve-musica-e-v/
LOCATION:St. Mariä Empfängnis Kirche\, Oststraße 42\, Düsseldorf\, NRW\, 40211\, Deutschland
CATEGORIES:Konzert
ATTACH;FMTTYPE=image/jpeg:https://xity.de/wp-content/uploads/2023/05/Chor.jpg
END:VEVENT
END:VCALENDAR