BEGIN:VCALENDAR
VERSION:2.0
PRODID:-//xity.de - ECPv6.15.20//NONSGML v1.0//EN
CALSCALE:GREGORIAN
METHOD:PUBLISH
X-WR-CALNAME:xity.de
X-ORIGINAL-URL:https://xity.de
X-WR-CALDESC:Veranstaltungen für xity.de
REFRESH-INTERVAL;VALUE=DURATION:PT1H
X-Robots-Tag:noindex
X-PUBLISHED-TTL:PT1H
BEGIN:VTIMEZONE
TZID:Europe/Berlin
BEGIN:DAYLIGHT
TZOFFSETFROM:+0100
TZOFFSETTO:+0200
TZNAME:CEST
DTSTART:20230326T010000
END:DAYLIGHT
BEGIN:STANDARD
TZOFFSETFROM:+0200
TZOFFSETTO:+0100
TZNAME:CET
DTSTART:20231029T010000
END:STANDARD
BEGIN:DAYLIGHT
TZOFFSETFROM:+0100
TZOFFSETTO:+0200
TZNAME:CEST
DTSTART:20240331T010000
END:DAYLIGHT
BEGIN:STANDARD
TZOFFSETFROM:+0200
TZOFFSETTO:+0100
TZNAME:CET
DTSTART:20241027T010000
END:STANDARD
BEGIN:DAYLIGHT
TZOFFSETFROM:+0100
TZOFFSETTO:+0200
TZNAME:CEST
DTSTART:20250330T010000
END:DAYLIGHT
BEGIN:STANDARD
TZOFFSETFROM:+0200
TZOFFSETTO:+0100
TZNAME:CET
DTSTART:20251026T010000
END:STANDARD
END:VTIMEZONE
BEGIN:VEVENT
DTSTART;VALUE=DATE:20241207
DTEND;VALUE=DATE:20241209
DTSTAMP:20260420T024936
CREATED:20241203T120611Z
LAST-MODIFIED:20241203T120611Z
UID:127673-1733529600-1733702399@xity.de
SUMMARY:Weihnachtsmarkt rund um Burg Linn in Krefeld
DESCRIPTION:Der Weihnachtsmarkt rund um Burg Linn in Krefeld findet traditionell am zweiten Adventswochenende statt. Etwa 120 Händler\, Handwerker und Gastronomen werden von Freitag\, 6.\, bis Sonntag\, 8. Dezember\, auf dem Weihnachtsmarkt ihre Buden und Stände aufbauen. Davon sind etwa 20 Anbieter zum ersten Mal mit dabei. Der Nikolaus wird immer wieder über die Wege und Plätze ziehen. Das historische Ambiente im Linner Ortskern mit vielen denkmalgeschützten Gebäuden und der mittelalterlichen Wasserburg zieht jedes Jahr tausende Besucherinnen und Besucher an. Der Eintritt ist kostenfrei. Erstmals wird nun auch der Margaretenplatz mit Buden und einer Krippe mit fast lebensgroßen Figuren bestückt. Mit dem sogenannten „Krippenplatz“ sollen weggefallene Standplätze auf der Museumswiese kompensiert werden. Dort holten sich Händler und Besucher in einem nun nicht mehr genutzten Bereich bei schlechtem Wetter regelmäßig nasse Füße. \nLinner Museen haben geöffnet \nMit der Erweiterung um den Margaretenplatz können die Besucher an den drei Tagen des Weihnachtsmarktes über den Andreasmarkt\, über das Oval der Vorburg und durch die Museumsscheune schlendern. Die Wege und Zugänge sind weitestgehend barrierefrei. Im Foyer des Deutschen Textilmuseums am Andreasmarkt wird es auch einen Verkaufsstand geben. Die Linner Museen haben zudem an dem Wochenende geöffnet. Der Eintritt für Kinder und Jugendliche bis 18 Jahre ist kostenfrei. Das gastronomische Angebot des Weihnachtsmarktes wird durch lokale Wirte in der Altstadt ergänzt. Auf ihrem Spaziergang durch Linn werden die Besucher dezent mit weihnachtlicher Musik begleitet. \nAnreise und Öffnungszeiten \nWegen der geringen Anzahl an Parkplätzen um die Linner Altstadt wird von den Veranstaltern eine Anreise mit öffentlichen Verkehrsmitteln oder dem Fahrrad empfohlen. Die Straßenbahnlinie 044 fährt an diesem Wochenende in einer verkürzten Taktung. Während des Weihnachtsmarktes werden im Umfeld Parkkontrollen durchgeführt. Der Weihnachtsmarkt in Linn öffnet am Freitag\, 6. Dezember\, von 17 bis 21 Uhr\, am Samstag\, 7. Dezember\, von 14 bis 21 Uhr und am Sonntag\, 8. Dezember\, von 11 bis 20 Uhr. Weitere Informationen stehen unter www.linner-weihnachtsmarkt.de.
URL:https://xity.de/event/weihnachtsmarkt-rund-um-burg-linn-in-krefeld/
LOCATION:Museum Burg Linn\, Rheinbabenstraße 85\, Krefeld\, NRW\, 47809\, Germany
CATEGORIES:Weihnachtsmarkt
ATTACH;FMTTYPE=image/jpeg:https://xity.de/wp-content/uploads/2024/11/weihnachtsmarkt_in_linn_1200.jpg
END:VEVENT
END:VCALENDAR