BEGIN:VCALENDAR
VERSION:2.0
PRODID:-//xity.de - ECPv6.15.20//NONSGML v1.0//EN
CALSCALE:GREGORIAN
METHOD:PUBLISH
X-ORIGINAL-URL:https://xity.de
X-WR-CALDESC:Veranstaltungen für xity.de
REFRESH-INTERVAL;VALUE=DURATION:PT1H
X-Robots-Tag:noindex
X-PUBLISHED-TTL:PT1H
BEGIN:VTIMEZONE
TZID:Europe/Berlin
BEGIN:DAYLIGHT
TZOFFSETFROM:+0100
TZOFFSETTO:+0200
TZNAME:CEST
DTSTART:20220327T010000
END:DAYLIGHT
BEGIN:STANDARD
TZOFFSETFROM:+0200
TZOFFSETTO:+0100
TZNAME:CET
DTSTART:20221030T010000
END:STANDARD
BEGIN:DAYLIGHT
TZOFFSETFROM:+0100
TZOFFSETTO:+0200
TZNAME:CEST
DTSTART:20230326T010000
END:DAYLIGHT
BEGIN:STANDARD
TZOFFSETFROM:+0200
TZOFFSETTO:+0100
TZNAME:CET
DTSTART:20231029T010000
END:STANDARD
BEGIN:DAYLIGHT
TZOFFSETFROM:+0100
TZOFFSETTO:+0200
TZNAME:CEST
DTSTART:20240331T010000
END:DAYLIGHT
BEGIN:STANDARD
TZOFFSETFROM:+0200
TZOFFSETTO:+0100
TZNAME:CET
DTSTART:20241027T010000
END:STANDARD
END:VTIMEZONE
BEGIN:VEVENT
DTSTART;VALUE=DATE:20230818
DTEND;VALUE=DATE:20230821
DTSTAMP:20260420T094131
CREATED:20230720T084302Z
LAST-MODIFIED:20230720T084723Z
UID:8483-1692316800-1692575999@xity.de
SUMMARY:Kunstpunkte 2023
DESCRIPTION:Düsseldorf – Zum 27. Mal öffnen Düsseldorfer Künstlerinnen und Künstler dem Publikum ihre Ateliers und Offräume. Sie sind herzlich eingeladen\, an den letzten beiden Augustwochenenden die Ateliers und Austellungsorte zu besuchen\, ins Gespräch zu kommen und die Vielfalt der Düsseldorfer Kunstszene zu erleben. \n\n\n\n\n\n\n\nDie Anmeldung ist unkompliziert und erfolgt online über die Kunstpunkte Webseite. Das Angebot ist auch dieses Jahr wieder kostenlos. (Quelle: Kunstpunkte)
URL:https://xity.de/event/kunstpunkte-2023/
CATEGORIES:Ausstellung,Freizeit,Führung,Kunst
ATTACH;FMTTYPE=image/jpeg:https://xity.de/wp-content/uploads/2023/07/Kunst.jpg
END:VEVENT
BEGIN:VEVENT
DTSTART;VALUE=DATE:20230825
DTEND;VALUE=DATE:20230828
DTSTAMP:20260420T094131
CREATED:20230720T084637Z
LAST-MODIFIED:20230720T084637Z
UID:8488-1692921600-1693180799@xity.de
SUMMARY:Kunstpunkte 2023
DESCRIPTION:Düsseldorf – Zum 27. Mal öffnen Düsseldorfer Künstlerinnen und Künstler dem Publikum ihre Ateliers und Offräume. Sie sind herzlich eingeladen\, an den letzten beiden Augustwochenenden die Ateliers und Austellungsorte zu besuchen\, ins Gespräch zu kommen und die Vielfalt der Düsseldorfer Kunstszene zu erleben. \n\n\n\n\n\n\n\nDie Anmeldung ist unkompliziert und erfolgt online über die Kunstpunkte Webseite. Das Angebot ist auch dieses Jahr wieder kostenlos. (Quelle: Kunstpunkte)
URL:https://xity.de/event/kunstpunkte-2023-2/
CATEGORIES:Ausstellung,Freizeit,Führung,Kunst
ATTACH;FMTTYPE=image/jpeg:https://xity.de/wp-content/uploads/2023/07/Kunst.jpg
END:VEVENT
END:VCALENDAR