BEGIN:VCALENDAR
VERSION:2.0
PRODID:-//xity.de - ECPv6.15.20//NONSGML v1.0//EN
CALSCALE:GREGORIAN
METHOD:PUBLISH
X-WR-CALNAME:xity.de
X-ORIGINAL-URL:https://xity.de
X-WR-CALDESC:Veranstaltungen für xity.de
REFRESH-INTERVAL;VALUE=DURATION:PT1H
X-Robots-Tag:noindex
X-PUBLISHED-TTL:PT1H
BEGIN:VTIMEZONE
TZID:Europe/Berlin
BEGIN:DAYLIGHT
TZOFFSETFROM:+0100
TZOFFSETTO:+0200
TZNAME:CEST
DTSTART:20220327T010000
END:DAYLIGHT
BEGIN:STANDARD
TZOFFSETFROM:+0200
TZOFFSETTO:+0100
TZNAME:CET
DTSTART:20221030T010000
END:STANDARD
BEGIN:DAYLIGHT
TZOFFSETFROM:+0100
TZOFFSETTO:+0200
TZNAME:CEST
DTSTART:20230326T010000
END:DAYLIGHT
BEGIN:STANDARD
TZOFFSETFROM:+0200
TZOFFSETTO:+0100
TZNAME:CET
DTSTART:20231029T010000
END:STANDARD
BEGIN:DAYLIGHT
TZOFFSETFROM:+0100
TZOFFSETTO:+0200
TZNAME:CEST
DTSTART:20240331T010000
END:DAYLIGHT
BEGIN:STANDARD
TZOFFSETFROM:+0200
TZOFFSETTO:+0100
TZNAME:CET
DTSTART:20241027T010000
END:STANDARD
END:VTIMEZONE
BEGIN:VEVENT
DTSTART;TZID=Europe/Berlin:20230804T190000
DTEND;TZID=Europe/Berlin:20230804T233000
DTSTAMP:20260420T113759
CREATED:20230627T110939Z
LAST-MODIFIED:20230627T110939Z
UID:6761-1691175600-1691191800@xity.de
SUMMARY:alltours Kino: Arielle\, die Meerjungfrau
DESCRIPTION:Düsseldorf – Die Meerjungfrau Arielle (Halle Bailey) ist die Lieblingstochter von König Triton (Javier Bardem)\, aber auch der eigensinnigste Spross des Herrschers. Immer wieder bricht das junge Mädchen mit der schönen Stimme die Regeln und nähert sich der Welt der Menschen\, was in Tritons Reich unter dem Meer streng verboten ist. Ihre Sammlung von Gegenständen\, die von den Menschen stammen und sie auf dem Meeresboden gefunden hat\, machen sie nur noch neugieriger. Als ein Schiff in Seenot gerät\, rettet sie den Prinzen Eric (Jonah Andre Hauer-King) vor dem Ertrinken und verliebt sich in ihn. Auch er verliebt sich in sie\, vor allem in ihre zauberhafte Stimme. Damit die beiden eine Zukunft haben\, muss Arielle aber an Land. Sie bittet die Meereshexe Ursula (Melissa McCarthy)\, ihr Beine zu geben. Diese stimmt zu\, will aber als Pfand Arielles Stimme. Da Eric Arielle ohne ihre schöne Stimme nicht erkennt\, wird sie mit der wohl wichtigsten Entscheidung in ihrem Leben konfrontiert. (Quelle: alltours Kino)
URL:https://xity.de/event/alltours-kino-arielle-die-meerjungfrau/
LOCATION:Open-Air-Kino am Rhein\, Robert-Lehr-Ufer\, Düsseldorf\, NRW\, 40479\, Deutschland
CATEGORIES:Kino
ATTACH;FMTTYPE=image/jpeg:https://xity.de/wp-content/uploads/2023/06/Arrielle.jpg
END:VEVENT
BEGIN:VEVENT
DTSTART;TZID=Europe/Berlin:20230812T190000
DTEND;TZID=Europe/Berlin:20230812T223000
DTSTAMP:20260420T113759
CREATED:20230627T124011Z
LAST-MODIFIED:20230627T124011Z
UID:6792-1691866800-1691879400@xity.de
SUMMARY:alltours Kino: Guardians of the Galaxy: Volume 3
DESCRIPTION:Düsseldorf – Thanos (Josh Brolin) und Peter Quills Vater Ego (Kurt Russell) sind zwar Geschichte\, aber die von ihnen verursachten Schäden sind sowohl im Universum als auch bei den Guardians Of The Galaxy nach wie vor spürbar. Während Star-Lord (Chris Pratt) noch immer Gamora (Zoe Saldana) hinterhertrauert\, hat seine Truppe die ehemalige intergalaktische Minenkolonie Knowhere mittlerweile zu ihrem Hauptquartier und einer Zufluchtstätte für Ausgestoßene umgemodelt. Doch findet der Frieden hier ein jähes Ende\, als der mächtige Adam Warlock (Will Poulter)\, eine Kreation der rachsüchtigen Sovereign-Hohepriesterin Ayesha (Elizabeth Debicki)\, Knowhere attackiert. Um einen der ihren zu retten\, begeben sich Star-Lord\, Drax (Dave Bautista)\, Groot (Stimme im Original: Vin Diesel) und Co. daraufhin auf eine kosmische Odyssee\, die eng mit der traumatischen Vergangenheit von Rocket (Bradley Cooper) verknüpft ist\, welcher einst vom nach Perfektion strebenden High Evolutionary (Chukwudi Iwuji) erschaffen wurde… (Quelle: alltours Kino)
URL:https://xity.de/event/alltours-kino-guardians-of-the-galaxy-volume-3/
LOCATION:Open-Air-Kino am Rhein\, Robert-Lehr-Ufer\, Düsseldorf\, NRW\, 40479\, Deutschland
CATEGORIES:Kino
ATTACH;FMTTYPE=image/jpeg:https://xity.de/wp-content/uploads/2023/06/Galaxy.jpg
END:VEVENT
END:VCALENDAR