BEGIN:VCALENDAR
VERSION:2.0
PRODID:-//xity.de - ECPv6.15.20//NONSGML v1.0//EN
CALSCALE:GREGORIAN
METHOD:PUBLISH
X-WR-CALNAME:xity.de
X-ORIGINAL-URL:https://xity.de
X-WR-CALDESC:Veranstaltungen für xity.de
REFRESH-INTERVAL;VALUE=DURATION:PT1H
X-Robots-Tag:noindex
X-PUBLISHED-TTL:PT1H
BEGIN:VTIMEZONE
TZID:Europe/Berlin
BEGIN:DAYLIGHT
TZOFFSETFROM:+0100
TZOFFSETTO:+0200
TZNAME:CEST
DTSTART:20220327T010000
END:DAYLIGHT
BEGIN:STANDARD
TZOFFSETFROM:+0200
TZOFFSETTO:+0100
TZNAME:CET
DTSTART:20221030T010000
END:STANDARD
BEGIN:DAYLIGHT
TZOFFSETFROM:+0100
TZOFFSETTO:+0200
TZNAME:CEST
DTSTART:20230326T010000
END:DAYLIGHT
BEGIN:STANDARD
TZOFFSETFROM:+0200
TZOFFSETTO:+0100
TZNAME:CET
DTSTART:20231029T010000
END:STANDARD
BEGIN:DAYLIGHT
TZOFFSETFROM:+0100
TZOFFSETTO:+0200
TZNAME:CEST
DTSTART:20240331T010000
END:DAYLIGHT
BEGIN:STANDARD
TZOFFSETFROM:+0200
TZOFFSETTO:+0100
TZNAME:CET
DTSTART:20241027T010000
END:STANDARD
END:VTIMEZONE
BEGIN:VEVENT
DTSTART;TZID=Europe/Berlin:20230802T190000
DTEND;TZID=Europe/Berlin:20230802T233000
DTSTAMP:20260420T051416
CREATED:20230627T103912Z
LAST-MODIFIED:20230627T103912Z
UID:6746-1691002800-1691019000@xity.de
SUMMARY:alltours Kino: Suzume
DESCRIPTION:Düsseldorf – Suzume (Originalstimme: Nanoka Hara\, deutsche Stimme: Emilia Raschewski) lebt in der ruhigen Stadt Kyushu und trifft einen jungen Mann „auf der Suche nach Türen“. Suzume folgt ihm zu einer Ruine eines verfallenen Gebäudes in den Bergen und findet eine freistehende Tür als wäre sie allein vor der Zerstörung gerettet worden. Suzume fühlt sich von einer unsichtbaren Kraft angezogen und greift nach der Tür – bald darauf öffnet sich in ganz Japan eine Tür nach der anderen. Um das Unheil das auf der anderen Seite lauernde Unheil abzuwehren\, müssen sie wieder geschlossen werden. Die Orte\, an die sie kommt\, haben einen Himmel\, an dem alle Tageszeiten miteinander zu verschmelzen scheinen – Sterne\, Sonnenuntergang und der Morgenhimmel. (OmU\, Animation\, FSK 12) (Quelle: alltours Kino)
URL:https://xity.de/event/alltours-kino-suzume/
LOCATION:Open-Air-Kino am Rhein\, Robert-Lehr-Ufer\, Düsseldorf\, NRW\, 40479\, Deutschland
CATEGORIES:Kino
ATTACH;FMTTYPE=image/jpeg:https://xity.de/wp-content/uploads/2023/06/Suzume.jpg
END:VEVENT
END:VCALENDAR